BEGIN:VCALENDAR
VERSION:2.0
PRODID:-//Slatersville Congregational Church | UCC church in northern Rhode Island - ECPv6.15.20//NONSGML v1.0//EN
CALSCALE:GREGORIAN
METHOD:PUBLISH
X-WR-CALNAME:Slatersville Congregational Church | UCC church in northern Rhode Island
X-ORIGINAL-URL:https://slatersvillechurch.org
X-WR-CALDESC:Events for Slatersville Congregational Church | UCC church in northern Rhode Island
REFRESH-INTERVAL;VALUE=DURATION:PT1H
X-Robots-Tag:noindex
X-PUBLISHED-TTL:PT1H
BEGIN:VTIMEZONE
TZID:America/New_York
BEGIN:DAYLIGHT
TZOFFSETFROM:-0500
TZOFFSETTO:-0400
TZNAME:EDT
DTSTART:20250309T070000
END:DAYLIGHT
BEGIN:STANDARD
TZOFFSETFROM:-0400
TZOFFSETTO:-0500
TZNAME:EST
DTSTART:20251102T060000
END:STANDARD
BEGIN:DAYLIGHT
TZOFFSETFROM:-0500
TZOFFSETTO:-0400
TZNAME:EDT
DTSTART:20260308T070000
END:DAYLIGHT
BEGIN:STANDARD
TZOFFSETFROM:-0400
TZOFFSETTO:-0500
TZNAME:EST
DTSTART:20261101T060000
END:STANDARD
BEGIN:DAYLIGHT
TZOFFSETFROM:-0500
TZOFFSETTO:-0400
TZNAME:EDT
DTSTART:20270314T070000
END:DAYLIGHT
BEGIN:STANDARD
TZOFFSETFROM:-0400
TZOFFSETTO:-0500
TZNAME:EST
DTSTART:20271107T060000
END:STANDARD
END:VTIMEZONE
BEGIN:VEVENT
DTSTART;TZID=America/New_York:20260427T190000
DTEND;TZID=America/New_York:20260427T200000
DTSTAMP:20260424T095411
CREATED:20260313T180008Z
LAST-MODIFIED:20260313T180643Z
UID:10004515-1777316400-1777320000@slatersvillechurch.org
SUMMARY:AA
DESCRIPTION:
URL:https://slatersvillechurch.org/event/aa/2026-04-27/
LOCATION:Slatersville Congregational Church\, 25 Greene St\, Slatersville\, RI\, 02876\, United States
ATTACH;FMTTYPE=image/jpeg:https://slatersvillechurch.org/wp-content/uploads/2023/03/group-young-people-sitting-talking-together.jpg
END:VEVENT
BEGIN:VEVENT
DTSTART;TZID=America/New_York:20260504T190000
DTEND;TZID=America/New_York:20260504T200000
DTSTAMP:20260424T095411
CREATED:20260313T180008Z
LAST-MODIFIED:20260313T180643Z
UID:10004516-1777921200-1777924800@slatersvillechurch.org
SUMMARY:AA
DESCRIPTION:
URL:https://slatersvillechurch.org/event/aa/2026-05-04/
LOCATION:Slatersville Congregational Church\, 25 Greene St\, Slatersville\, RI\, 02876\, United States
ATTACH;FMTTYPE=image/jpeg:https://slatersvillechurch.org/wp-content/uploads/2023/03/group-young-people-sitting-talking-together.jpg
END:VEVENT
BEGIN:VEVENT
DTSTART;TZID=America/New_York:20260511T190000
DTEND;TZID=America/New_York:20260511T200000
DTSTAMP:20260424T095411
CREATED:20260313T180008Z
LAST-MODIFIED:20260313T180643Z
UID:10004517-1778526000-1778529600@slatersvillechurch.org
SUMMARY:AA
DESCRIPTION:
URL:https://slatersvillechurch.org/event/aa/2026-05-11/
LOCATION:Slatersville Congregational Church\, 25 Greene St\, Slatersville\, RI\, 02876\, United States
ATTACH;FMTTYPE=image/jpeg:https://slatersvillechurch.org/wp-content/uploads/2023/03/group-young-people-sitting-talking-together.jpg
END:VEVENT
BEGIN:VEVENT
DTSTART;TZID=America/New_York:20260518T190000
DTEND;TZID=America/New_York:20260518T200000
DTSTAMP:20260424T095411
CREATED:20260313T180008Z
LAST-MODIFIED:20260313T180643Z
UID:10004518-1779130800-1779134400@slatersvillechurch.org
SUMMARY:AA
DESCRIPTION:
URL:https://slatersvillechurch.org/event/aa/2026-05-18/
LOCATION:Slatersville Congregational Church\, 25 Greene St\, Slatersville\, RI\, 02876\, United States
ATTACH;FMTTYPE=image/jpeg:https://slatersvillechurch.org/wp-content/uploads/2023/03/group-young-people-sitting-talking-together.jpg
END:VEVENT
BEGIN:VEVENT
DTSTART;TZID=America/New_York:20260525T190000
DTEND;TZID=America/New_York:20260525T200000
DTSTAMP:20260424T095411
CREATED:20260313T180008Z
LAST-MODIFIED:20260313T180643Z
UID:10004519-1779735600-1779739200@slatersvillechurch.org
SUMMARY:AA
DESCRIPTION:
URL:https://slatersvillechurch.org/event/aa/2026-05-25/
LOCATION:Slatersville Congregational Church\, 25 Greene St\, Slatersville\, RI\, 02876\, United States
ATTACH;FMTTYPE=image/jpeg:https://slatersvillechurch.org/wp-content/uploads/2023/03/group-young-people-sitting-talking-together.jpg
END:VEVENT
BEGIN:VEVENT
DTSTART;TZID=America/New_York:20260601T190000
DTEND;TZID=America/New_York:20260601T200000
DTSTAMP:20260424T095411
CREATED:20260313T180008Z
LAST-MODIFIED:20260313T180643Z
UID:10004520-1780340400-1780344000@slatersvillechurch.org
SUMMARY:AA
DESCRIPTION:
URL:https://slatersvillechurch.org/event/aa/2026-06-01/
LOCATION:Slatersville Congregational Church\, 25 Greene St\, Slatersville\, RI\, 02876\, United States
ATTACH;FMTTYPE=image/jpeg:https://slatersvillechurch.org/wp-content/uploads/2023/03/group-young-people-sitting-talking-together.jpg
END:VEVENT
BEGIN:VEVENT
DTSTART;TZID=America/New_York:20260608T190000
DTEND;TZID=America/New_York:20260608T200000
DTSTAMP:20260424T095411
CREATED:20260313T180008Z
LAST-MODIFIED:20260313T180643Z
UID:10004521-1780945200-1780948800@slatersvillechurch.org
SUMMARY:AA
DESCRIPTION:
URL:https://slatersvillechurch.org/event/aa/2026-06-08/
LOCATION:Slatersville Congregational Church\, 25 Greene St\, Slatersville\, RI\, 02876\, United States
ATTACH;FMTTYPE=image/jpeg:https://slatersvillechurch.org/wp-content/uploads/2023/03/group-young-people-sitting-talking-together.jpg
END:VEVENT
BEGIN:VEVENT
DTSTART;TZID=America/New_York:20260615T190000
DTEND;TZID=America/New_York:20260615T200000
DTSTAMP:20260424T095411
CREATED:20260313T180008Z
LAST-MODIFIED:20260313T180643Z
UID:10004522-1781550000-1781553600@slatersvillechurch.org
SUMMARY:AA
DESCRIPTION:
URL:https://slatersvillechurch.org/event/aa/2026-06-15/
LOCATION:Slatersville Congregational Church\, 25 Greene St\, Slatersville\, RI\, 02876\, United States
ATTACH;FMTTYPE=image/jpeg:https://slatersvillechurch.org/wp-content/uploads/2023/03/group-young-people-sitting-talking-together.jpg
END:VEVENT
BEGIN:VEVENT
DTSTART;TZID=America/New_York:20260622T190000
DTEND;TZID=America/New_York:20260622T200000
DTSTAMP:20260424T095411
CREATED:20260313T180008Z
LAST-MODIFIED:20260313T180643Z
UID:10004523-1782154800-1782158400@slatersvillechurch.org
SUMMARY:AA
DESCRIPTION:
URL:https://slatersvillechurch.org/event/aa/2026-06-22/
LOCATION:Slatersville Congregational Church\, 25 Greene St\, Slatersville\, RI\, 02876\, United States
ATTACH;FMTTYPE=image/jpeg:https://slatersvillechurch.org/wp-content/uploads/2023/03/group-young-people-sitting-talking-together.jpg
END:VEVENT
BEGIN:VEVENT
DTSTART;TZID=America/New_York:20260629T190000
DTEND;TZID=America/New_York:20260629T200000
DTSTAMP:20260424T095411
CREATED:20260313T180008Z
LAST-MODIFIED:20260313T180643Z
UID:10004524-1782759600-1782763200@slatersvillechurch.org
SUMMARY:AA
DESCRIPTION:
URL:https://slatersvillechurch.org/event/aa/2026-06-29/
LOCATION:Slatersville Congregational Church\, 25 Greene St\, Slatersville\, RI\, 02876\, United States
ATTACH;FMTTYPE=image/jpeg:https://slatersvillechurch.org/wp-content/uploads/2023/03/group-young-people-sitting-talking-together.jpg
END:VEVENT
BEGIN:VEVENT
DTSTART;TZID=America/New_York:20260706T190000
DTEND;TZID=America/New_York:20260706T200000
DTSTAMP:20260424T095411
CREATED:20260313T180008Z
LAST-MODIFIED:20260313T180643Z
UID:10004525-1783364400-1783368000@slatersvillechurch.org
SUMMARY:AA
DESCRIPTION:
URL:https://slatersvillechurch.org/event/aa/2026-07-06/
LOCATION:Slatersville Congregational Church\, 25 Greene St\, Slatersville\, RI\, 02876\, United States
ATTACH;FMTTYPE=image/jpeg:https://slatersvillechurch.org/wp-content/uploads/2023/03/group-young-people-sitting-talking-together.jpg
END:VEVENT
BEGIN:VEVENT
DTSTART;TZID=America/New_York:20260713T190000
DTEND;TZID=America/New_York:20260713T200000
DTSTAMP:20260424T095411
CREATED:20260313T180008Z
LAST-MODIFIED:20260313T180643Z
UID:10004526-1783969200-1783972800@slatersvillechurch.org
SUMMARY:AA
DESCRIPTION:
URL:https://slatersvillechurch.org/event/aa/2026-07-13/
LOCATION:Slatersville Congregational Church\, 25 Greene St\, Slatersville\, RI\, 02876\, United States
ATTACH;FMTTYPE=image/jpeg:https://slatersvillechurch.org/wp-content/uploads/2023/03/group-young-people-sitting-talking-together.jpg
END:VEVENT
BEGIN:VEVENT
DTSTART;TZID=America/New_York:20260720T190000
DTEND;TZID=America/New_York:20260720T200000
DTSTAMP:20260424T095411
CREATED:20260313T180008Z
LAST-MODIFIED:20260313T180643Z
UID:10004527-1784574000-1784577600@slatersvillechurch.org
SUMMARY:AA
DESCRIPTION:
URL:https://slatersvillechurch.org/event/aa/2026-07-20/
LOCATION:Slatersville Congregational Church\, 25 Greene St\, Slatersville\, RI\, 02876\, United States
ATTACH;FMTTYPE=image/jpeg:https://slatersvillechurch.org/wp-content/uploads/2023/03/group-young-people-sitting-talking-together.jpg
END:VEVENT
BEGIN:VEVENT
DTSTART;TZID=America/New_York:20260727T190000
DTEND;TZID=America/New_York:20260727T200000
DTSTAMP:20260424T095411
CREATED:20260313T180008Z
LAST-MODIFIED:20260313T180643Z
UID:10004528-1785178800-1785182400@slatersvillechurch.org
SUMMARY:AA
DESCRIPTION:
URL:https://slatersvillechurch.org/event/aa/2026-07-27/
LOCATION:Slatersville Congregational Church\, 25 Greene St\, Slatersville\, RI\, 02876\, United States
ATTACH;FMTTYPE=image/jpeg:https://slatersvillechurch.org/wp-content/uploads/2023/03/group-young-people-sitting-talking-together.jpg
END:VEVENT
BEGIN:VEVENT
DTSTART;TZID=America/New_York:20260803T190000
DTEND;TZID=America/New_York:20260803T200000
DTSTAMP:20260424T095411
CREATED:20260313T180008Z
LAST-MODIFIED:20260313T180643Z
UID:10004529-1785783600-1785787200@slatersvillechurch.org
SUMMARY:AA
DESCRIPTION:
URL:https://slatersvillechurch.org/event/aa/2026-08-03/
LOCATION:Slatersville Congregational Church\, 25 Greene St\, Slatersville\, RI\, 02876\, United States
ATTACH;FMTTYPE=image/jpeg:https://slatersvillechurch.org/wp-content/uploads/2023/03/group-young-people-sitting-talking-together.jpg
END:VEVENT
BEGIN:VEVENT
DTSTART;TZID=America/New_York:20260810T190000
DTEND;TZID=America/New_York:20260810T200000
DTSTAMP:20260424T095411
CREATED:20260313T180008Z
LAST-MODIFIED:20260313T180643Z
UID:10004530-1786388400-1786392000@slatersvillechurch.org
SUMMARY:AA
DESCRIPTION:
URL:https://slatersvillechurch.org/event/aa/2026-08-10/
LOCATION:Slatersville Congregational Church\, 25 Greene St\, Slatersville\, RI\, 02876\, United States
ATTACH;FMTTYPE=image/jpeg:https://slatersvillechurch.org/wp-content/uploads/2023/03/group-young-people-sitting-talking-together.jpg
END:VEVENT
BEGIN:VEVENT
DTSTART;TZID=America/New_York:20260817T190000
DTEND;TZID=America/New_York:20260817T200000
DTSTAMP:20260424T095411
CREATED:20260313T180008Z
LAST-MODIFIED:20260313T180643Z
UID:10004531-1786993200-1786996800@slatersvillechurch.org
SUMMARY:AA
DESCRIPTION:
URL:https://slatersvillechurch.org/event/aa/2026-08-17/
LOCATION:Slatersville Congregational Church\, 25 Greene St\, Slatersville\, RI\, 02876\, United States
ATTACH;FMTTYPE=image/jpeg:https://slatersvillechurch.org/wp-content/uploads/2023/03/group-young-people-sitting-talking-together.jpg
END:VEVENT
BEGIN:VEVENT
DTSTART;TZID=America/New_York:20260824T190000
DTEND;TZID=America/New_York:20260824T200000
DTSTAMP:20260424T095411
CREATED:20260313T180008Z
LAST-MODIFIED:20260313T180643Z
UID:10004532-1787598000-1787601600@slatersvillechurch.org
SUMMARY:AA
DESCRIPTION:
URL:https://slatersvillechurch.org/event/aa/2026-08-24/
LOCATION:Slatersville Congregational Church\, 25 Greene St\, Slatersville\, RI\, 02876\, United States
ATTACH;FMTTYPE=image/jpeg:https://slatersvillechurch.org/wp-content/uploads/2023/03/group-young-people-sitting-talking-together.jpg
END:VEVENT
BEGIN:VEVENT
DTSTART;TZID=America/New_York:20260831T190000
DTEND;TZID=America/New_York:20260831T200000
DTSTAMP:20260424T095411
CREATED:20260313T180008Z
LAST-MODIFIED:20260313T180643Z
UID:10004533-1788202800-1788206400@slatersvillechurch.org
SUMMARY:AA
DESCRIPTION:
URL:https://slatersvillechurch.org/event/aa/2026-08-31/
LOCATION:Slatersville Congregational Church\, 25 Greene St\, Slatersville\, RI\, 02876\, United States
ATTACH;FMTTYPE=image/jpeg:https://slatersvillechurch.org/wp-content/uploads/2023/03/group-young-people-sitting-talking-together.jpg
END:VEVENT
BEGIN:VEVENT
DTSTART;TZID=America/New_York:20260907T190000
DTEND;TZID=America/New_York:20260907T200000
DTSTAMP:20260424T095411
CREATED:20260313T180008Z
LAST-MODIFIED:20260313T180643Z
UID:10004534-1788807600-1788811200@slatersvillechurch.org
SUMMARY:AA
DESCRIPTION:
URL:https://slatersvillechurch.org/event/aa/2026-09-07/
LOCATION:Slatersville Congregational Church\, 25 Greene St\, Slatersville\, RI\, 02876\, United States
ATTACH;FMTTYPE=image/jpeg:https://slatersvillechurch.org/wp-content/uploads/2023/03/group-young-people-sitting-talking-together.jpg
END:VEVENT
BEGIN:VEVENT
DTSTART;TZID=America/New_York:20260914T190000
DTEND;TZID=America/New_York:20260914T200000
DTSTAMP:20260424T095411
CREATED:20260313T180008Z
LAST-MODIFIED:20260313T180643Z
UID:10004535-1789412400-1789416000@slatersvillechurch.org
SUMMARY:AA
DESCRIPTION:
URL:https://slatersvillechurch.org/event/aa/2026-09-14/
LOCATION:Slatersville Congregational Church\, 25 Greene St\, Slatersville\, RI\, 02876\, United States
ATTACH;FMTTYPE=image/jpeg:https://slatersvillechurch.org/wp-content/uploads/2023/03/group-young-people-sitting-talking-together.jpg
END:VEVENT
BEGIN:VEVENT
DTSTART;TZID=America/New_York:20260921T190000
DTEND;TZID=America/New_York:20260921T200000
DTSTAMP:20260424T095411
CREATED:20260313T180008Z
LAST-MODIFIED:20260313T180643Z
UID:10004536-1790017200-1790020800@slatersvillechurch.org
SUMMARY:AA
DESCRIPTION:
URL:https://slatersvillechurch.org/event/aa/2026-09-21/
LOCATION:Slatersville Congregational Church\, 25 Greene St\, Slatersville\, RI\, 02876\, United States
ATTACH;FMTTYPE=image/jpeg:https://slatersvillechurch.org/wp-content/uploads/2023/03/group-young-people-sitting-talking-together.jpg
END:VEVENT
BEGIN:VEVENT
DTSTART;TZID=America/New_York:20260928T190000
DTEND;TZID=America/New_York:20260928T200000
DTSTAMP:20260424T095411
CREATED:20260313T180008Z
LAST-MODIFIED:20260313T180643Z
UID:10004537-1790622000-1790625600@slatersvillechurch.org
SUMMARY:AA
DESCRIPTION:
URL:https://slatersvillechurch.org/event/aa/2026-09-28/
LOCATION:Slatersville Congregational Church\, 25 Greene St\, Slatersville\, RI\, 02876\, United States
ATTACH;FMTTYPE=image/jpeg:https://slatersvillechurch.org/wp-content/uploads/2023/03/group-young-people-sitting-talking-together.jpg
END:VEVENT
BEGIN:VEVENT
DTSTART;TZID=America/New_York:20261005T190000
DTEND;TZID=America/New_York:20261005T200000
DTSTAMP:20260424T095411
CREATED:20260313T180008Z
LAST-MODIFIED:20260313T180643Z
UID:10004538-1791226800-1791230400@slatersvillechurch.org
SUMMARY:AA
DESCRIPTION:
URL:https://slatersvillechurch.org/event/aa/2026-10-05/
LOCATION:Slatersville Congregational Church\, 25 Greene St\, Slatersville\, RI\, 02876\, United States
ATTACH;FMTTYPE=image/jpeg:https://slatersvillechurch.org/wp-content/uploads/2023/03/group-young-people-sitting-talking-together.jpg
END:VEVENT
BEGIN:VEVENT
DTSTART;TZID=America/New_York:20261012T190000
DTEND;TZID=America/New_York:20261012T200000
DTSTAMP:20260424T095411
CREATED:20260313T180008Z
LAST-MODIFIED:20260313T180643Z
UID:10004539-1791831600-1791835200@slatersvillechurch.org
SUMMARY:AA
DESCRIPTION:
URL:https://slatersvillechurch.org/event/aa/2026-10-12/
LOCATION:Slatersville Congregational Church\, 25 Greene St\, Slatersville\, RI\, 02876\, United States
ATTACH;FMTTYPE=image/jpeg:https://slatersvillechurch.org/wp-content/uploads/2023/03/group-young-people-sitting-talking-together.jpg
END:VEVENT
BEGIN:VEVENT
DTSTART;TZID=America/New_York:20261019T190000
DTEND;TZID=America/New_York:20261019T200000
DTSTAMP:20260424T095411
CREATED:20260313T180008Z
LAST-MODIFIED:20260313T180643Z
UID:10004540-1792436400-1792440000@slatersvillechurch.org
SUMMARY:AA
DESCRIPTION:
URL:https://slatersvillechurch.org/event/aa/2026-10-19/
LOCATION:Slatersville Congregational Church\, 25 Greene St\, Slatersville\, RI\, 02876\, United States
ATTACH;FMTTYPE=image/jpeg:https://slatersvillechurch.org/wp-content/uploads/2023/03/group-young-people-sitting-talking-together.jpg
END:VEVENT
BEGIN:VEVENT
DTSTART;TZID=America/New_York:20261026T190000
DTEND;TZID=America/New_York:20261026T200000
DTSTAMP:20260424T095411
CREATED:20260313T180008Z
LAST-MODIFIED:20260313T180643Z
UID:10004541-1793041200-1793044800@slatersvillechurch.org
SUMMARY:AA
DESCRIPTION:
URL:https://slatersvillechurch.org/event/aa/2026-10-26/
LOCATION:Slatersville Congregational Church\, 25 Greene St\, Slatersville\, RI\, 02876\, United States
ATTACH;FMTTYPE=image/jpeg:https://slatersvillechurch.org/wp-content/uploads/2023/03/group-young-people-sitting-talking-together.jpg
END:VEVENT
BEGIN:VEVENT
DTSTART;TZID=America/New_York:20261102T190000
DTEND;TZID=America/New_York:20261102T200000
DTSTAMP:20260424T095411
CREATED:20260313T180008Z
LAST-MODIFIED:20260313T180643Z
UID:10004542-1793646000-1793649600@slatersvillechurch.org
SUMMARY:AA
DESCRIPTION:
URL:https://slatersvillechurch.org/event/aa/2026-11-02/
LOCATION:Slatersville Congregational Church\, 25 Greene St\, Slatersville\, RI\, 02876\, United States
ATTACH;FMTTYPE=image/jpeg:https://slatersvillechurch.org/wp-content/uploads/2023/03/group-young-people-sitting-talking-together.jpg
END:VEVENT
BEGIN:VEVENT
DTSTART;TZID=America/New_York:20261109T190000
DTEND;TZID=America/New_York:20261109T200000
DTSTAMP:20260424T095411
CREATED:20260313T180008Z
LAST-MODIFIED:20260313T180643Z
UID:10004543-1794250800-1794254400@slatersvillechurch.org
SUMMARY:AA
DESCRIPTION:
URL:https://slatersvillechurch.org/event/aa/2026-11-09/
LOCATION:Slatersville Congregational Church\, 25 Greene St\, Slatersville\, RI\, 02876\, United States
ATTACH;FMTTYPE=image/jpeg:https://slatersvillechurch.org/wp-content/uploads/2023/03/group-young-people-sitting-talking-together.jpg
END:VEVENT
BEGIN:VEVENT
DTSTART;TZID=America/New_York:20261116T190000
DTEND;TZID=America/New_York:20261116T200000
DTSTAMP:20260424T095411
CREATED:20260313T180008Z
LAST-MODIFIED:20260313T180643Z
UID:10004544-1794855600-1794859200@slatersvillechurch.org
SUMMARY:AA
DESCRIPTION:
URL:https://slatersvillechurch.org/event/aa/2026-11-16/
LOCATION:Slatersville Congregational Church\, 25 Greene St\, Slatersville\, RI\, 02876\, United States
ATTACH;FMTTYPE=image/jpeg:https://slatersvillechurch.org/wp-content/uploads/2023/03/group-young-people-sitting-talking-together.jpg
END:VEVENT
END:VCALENDAR