BEGIN:VCALENDAR
VERSION:2.0
PRODID:-//Slatersville Congregational Church | UCC church in northern Rhode Island - ECPv6.15.20//NONSGML v1.0//EN
CALSCALE:GREGORIAN
METHOD:PUBLISH
X-WR-CALNAME:Slatersville Congregational Church | UCC church in northern Rhode Island
X-ORIGINAL-URL:https://slatersvillechurch.org
X-WR-CALDESC:Events for Slatersville Congregational Church | UCC church in northern Rhode Island
REFRESH-INTERVAL;VALUE=DURATION:PT1H
X-Robots-Tag:noindex
X-PUBLISHED-TTL:PT1H
BEGIN:VTIMEZONE
TZID:America/New_York
BEGIN:DAYLIGHT
TZOFFSETFROM:-0500
TZOFFSETTO:-0400
TZNAME:EDT
DTSTART:20250309T070000
END:DAYLIGHT
BEGIN:STANDARD
TZOFFSETFROM:-0400
TZOFFSETTO:-0500
TZNAME:EST
DTSTART:20251102T060000
END:STANDARD
BEGIN:DAYLIGHT
TZOFFSETFROM:-0500
TZOFFSETTO:-0400
TZNAME:EDT
DTSTART:20260308T070000
END:DAYLIGHT
BEGIN:STANDARD
TZOFFSETFROM:-0400
TZOFFSETTO:-0500
TZNAME:EST
DTSTART:20261101T060000
END:STANDARD
BEGIN:DAYLIGHT
TZOFFSETFROM:-0500
TZOFFSETTO:-0400
TZNAME:EDT
DTSTART:20270314T070000
END:DAYLIGHT
BEGIN:STANDARD
TZOFFSETFROM:-0400
TZOFFSETTO:-0500
TZNAME:EST
DTSTART:20271107T060000
END:STANDARD
END:VTIMEZONE
BEGIN:VEVENT
DTSTART;TZID=America/New_York:20260426T100000
DTEND;TZID=America/New_York:20260426T230000
DTSTAMP:20260424T095410
CREATED:20260313T175904Z
LAST-MODIFIED:20260313T180510Z
UID:10004252-1777197600-1777244400@slatersvillechurch.org
SUMMARY:Worship
DESCRIPTION:
URL:https://slatersvillechurch.org/event/worship/2026-04-26/
LOCATION:Slatersville Congregational Church\, 25 Greene St\, Slatersville\, RI\, 02876\, United States
ATTACH;FMTTYPE=image/jpeg:https://slatersvillechurch.org/wp-content/uploads/2023/03/worship1.jpg
END:VEVENT
BEGIN:VEVENT
DTSTART;TZID=America/New_York:20260503T100000
DTEND;TZID=America/New_York:20260503T230000
DTSTAMP:20260424T095410
CREATED:20260313T175904Z
LAST-MODIFIED:20260313T180510Z
UID:10004253-1777802400-1777849200@slatersvillechurch.org
SUMMARY:Worship
DESCRIPTION:
URL:https://slatersvillechurch.org/event/worship/2026-05-03/
LOCATION:Slatersville Congregational Church\, 25 Greene St\, Slatersville\, RI\, 02876\, United States
ATTACH;FMTTYPE=image/jpeg:https://slatersvillechurch.org/wp-content/uploads/2023/03/worship1.jpg
END:VEVENT
BEGIN:VEVENT
DTSTART;TZID=America/New_York:20260510T100000
DTEND;TZID=America/New_York:20260510T230000
DTSTAMP:20260424T095410
CREATED:20260313T175904Z
LAST-MODIFIED:20260313T180510Z
UID:10004254-1778407200-1778454000@slatersvillechurch.org
SUMMARY:Worship
DESCRIPTION:
URL:https://slatersvillechurch.org/event/worship/2026-05-10/
LOCATION:Slatersville Congregational Church\, 25 Greene St\, Slatersville\, RI\, 02876\, United States
ATTACH;FMTTYPE=image/jpeg:https://slatersvillechurch.org/wp-content/uploads/2023/03/worship1.jpg
END:VEVENT
BEGIN:VEVENT
DTSTART;TZID=America/New_York:20260517T100000
DTEND;TZID=America/New_York:20260517T230000
DTSTAMP:20260424T095410
CREATED:20260313T175904Z
LAST-MODIFIED:20260313T180510Z
UID:10004255-1779012000-1779058800@slatersvillechurch.org
SUMMARY:Worship
DESCRIPTION:
URL:https://slatersvillechurch.org/event/worship/2026-05-17/
LOCATION:Slatersville Congregational Church\, 25 Greene St\, Slatersville\, RI\, 02876\, United States
ATTACH;FMTTYPE=image/jpeg:https://slatersvillechurch.org/wp-content/uploads/2023/03/worship1.jpg
END:VEVENT
BEGIN:VEVENT
DTSTART;TZID=America/New_York:20260524T100000
DTEND;TZID=America/New_York:20260524T230000
DTSTAMP:20260424T095410
CREATED:20260313T175904Z
LAST-MODIFIED:20260313T180510Z
UID:10004256-1779616800-1779663600@slatersvillechurch.org
SUMMARY:Worship
DESCRIPTION:
URL:https://slatersvillechurch.org/event/worship/2026-05-24/
LOCATION:Slatersville Congregational Church\, 25 Greene St\, Slatersville\, RI\, 02876\, United States
ATTACH;FMTTYPE=image/jpeg:https://slatersvillechurch.org/wp-content/uploads/2023/03/worship1.jpg
END:VEVENT
BEGIN:VEVENT
DTSTART;TZID=America/New_York:20260531T100000
DTEND;TZID=America/New_York:20260531T230000
DTSTAMP:20260424T095410
CREATED:20260313T175904Z
LAST-MODIFIED:20260313T180510Z
UID:10004257-1780221600-1780268400@slatersvillechurch.org
SUMMARY:Worship
DESCRIPTION:
URL:https://slatersvillechurch.org/event/worship/2026-05-31/
LOCATION:Slatersville Congregational Church\, 25 Greene St\, Slatersville\, RI\, 02876\, United States
ATTACH;FMTTYPE=image/jpeg:https://slatersvillechurch.org/wp-content/uploads/2023/03/worship1.jpg
END:VEVENT
BEGIN:VEVENT
DTSTART;TZID=America/New_York:20260607T100000
DTEND;TZID=America/New_York:20260607T230000
DTSTAMP:20260424T095410
CREATED:20260313T175904Z
LAST-MODIFIED:20260313T180510Z
UID:10004258-1780826400-1780873200@slatersvillechurch.org
SUMMARY:Worship
DESCRIPTION:
URL:https://slatersvillechurch.org/event/worship/2026-06-07/
LOCATION:Slatersville Congregational Church\, 25 Greene St\, Slatersville\, RI\, 02876\, United States
ATTACH;FMTTYPE=image/jpeg:https://slatersvillechurch.org/wp-content/uploads/2023/03/worship1.jpg
END:VEVENT
BEGIN:VEVENT
DTSTART;TZID=America/New_York:20260614T100000
DTEND;TZID=America/New_York:20260614T230000
DTSTAMP:20260424T095410
CREATED:20260313T175904Z
LAST-MODIFIED:20260313T180510Z
UID:10004259-1781431200-1781478000@slatersvillechurch.org
SUMMARY:Worship
DESCRIPTION:
URL:https://slatersvillechurch.org/event/worship/2026-06-14/
LOCATION:Slatersville Congregational Church\, 25 Greene St\, Slatersville\, RI\, 02876\, United States
ATTACH;FMTTYPE=image/jpeg:https://slatersvillechurch.org/wp-content/uploads/2023/03/worship1.jpg
END:VEVENT
BEGIN:VEVENT
DTSTART;TZID=America/New_York:20260621T100000
DTEND;TZID=America/New_York:20260621T230000
DTSTAMP:20260424T095410
CREATED:20260313T175904Z
LAST-MODIFIED:20260313T180510Z
UID:10004260-1782036000-1782082800@slatersvillechurch.org
SUMMARY:Worship
DESCRIPTION:
URL:https://slatersvillechurch.org/event/worship/2026-06-21/
LOCATION:Slatersville Congregational Church\, 25 Greene St\, Slatersville\, RI\, 02876\, United States
ATTACH;FMTTYPE=image/jpeg:https://slatersvillechurch.org/wp-content/uploads/2023/03/worship1.jpg
END:VEVENT
BEGIN:VEVENT
DTSTART;TZID=America/New_York:20260628T100000
DTEND;TZID=America/New_York:20260628T230000
DTSTAMP:20260424T095410
CREATED:20260313T175904Z
LAST-MODIFIED:20260313T180510Z
UID:10004261-1782640800-1782687600@slatersvillechurch.org
SUMMARY:Worship
DESCRIPTION:
URL:https://slatersvillechurch.org/event/worship/2026-06-28/
LOCATION:Slatersville Congregational Church\, 25 Greene St\, Slatersville\, RI\, 02876\, United States
ATTACH;FMTTYPE=image/jpeg:https://slatersvillechurch.org/wp-content/uploads/2023/03/worship1.jpg
END:VEVENT
BEGIN:VEVENT
DTSTART;TZID=America/New_York:20260705T100000
DTEND;TZID=America/New_York:20260705T230000
DTSTAMP:20260424T095410
CREATED:20260313T175904Z
LAST-MODIFIED:20260313T180510Z
UID:10004262-1783245600-1783292400@slatersvillechurch.org
SUMMARY:Worship
DESCRIPTION:
URL:https://slatersvillechurch.org/event/worship/2026-07-05/
LOCATION:Slatersville Congregational Church\, 25 Greene St\, Slatersville\, RI\, 02876\, United States
ATTACH;FMTTYPE=image/jpeg:https://slatersvillechurch.org/wp-content/uploads/2023/03/worship1.jpg
END:VEVENT
BEGIN:VEVENT
DTSTART;TZID=America/New_York:20260712T100000
DTEND;TZID=America/New_York:20260712T230000
DTSTAMP:20260424T095410
CREATED:20260313T175904Z
LAST-MODIFIED:20260313T180510Z
UID:10004263-1783850400-1783897200@slatersvillechurch.org
SUMMARY:Worship
DESCRIPTION:
URL:https://slatersvillechurch.org/event/worship/2026-07-12/
LOCATION:Slatersville Congregational Church\, 25 Greene St\, Slatersville\, RI\, 02876\, United States
ATTACH;FMTTYPE=image/jpeg:https://slatersvillechurch.org/wp-content/uploads/2023/03/worship1.jpg
END:VEVENT
BEGIN:VEVENT
DTSTART;TZID=America/New_York:20260719T100000
DTEND;TZID=America/New_York:20260719T230000
DTSTAMP:20260424T095410
CREATED:20260313T175904Z
LAST-MODIFIED:20260313T180510Z
UID:10004264-1784455200-1784502000@slatersvillechurch.org
SUMMARY:Worship
DESCRIPTION:
URL:https://slatersvillechurch.org/event/worship/2026-07-19/
LOCATION:Slatersville Congregational Church\, 25 Greene St\, Slatersville\, RI\, 02876\, United States
ATTACH;FMTTYPE=image/jpeg:https://slatersvillechurch.org/wp-content/uploads/2023/03/worship1.jpg
END:VEVENT
BEGIN:VEVENT
DTSTART;TZID=America/New_York:20260726T100000
DTEND;TZID=America/New_York:20260726T230000
DTSTAMP:20260424T095410
CREATED:20260313T175904Z
LAST-MODIFIED:20260313T180510Z
UID:10004265-1785060000-1785106800@slatersvillechurch.org
SUMMARY:Worship
DESCRIPTION:
URL:https://slatersvillechurch.org/event/worship/2026-07-26/
LOCATION:Slatersville Congregational Church\, 25 Greene St\, Slatersville\, RI\, 02876\, United States
ATTACH;FMTTYPE=image/jpeg:https://slatersvillechurch.org/wp-content/uploads/2023/03/worship1.jpg
END:VEVENT
BEGIN:VEVENT
DTSTART;TZID=America/New_York:20260802T100000
DTEND;TZID=America/New_York:20260802T230000
DTSTAMP:20260424T095410
CREATED:20260313T175904Z
LAST-MODIFIED:20260313T180510Z
UID:10004266-1785664800-1785711600@slatersvillechurch.org
SUMMARY:Worship
DESCRIPTION:
URL:https://slatersvillechurch.org/event/worship/2026-08-02/
LOCATION:Slatersville Congregational Church\, 25 Greene St\, Slatersville\, RI\, 02876\, United States
ATTACH;FMTTYPE=image/jpeg:https://slatersvillechurch.org/wp-content/uploads/2023/03/worship1.jpg
END:VEVENT
BEGIN:VEVENT
DTSTART;TZID=America/New_York:20260809T100000
DTEND;TZID=America/New_York:20260809T230000
DTSTAMP:20260424T095410
CREATED:20260313T175904Z
LAST-MODIFIED:20260313T180510Z
UID:10004267-1786269600-1786316400@slatersvillechurch.org
SUMMARY:Worship
DESCRIPTION:
URL:https://slatersvillechurch.org/event/worship/2026-08-09/
LOCATION:Slatersville Congregational Church\, 25 Greene St\, Slatersville\, RI\, 02876\, United States
ATTACH;FMTTYPE=image/jpeg:https://slatersvillechurch.org/wp-content/uploads/2023/03/worship1.jpg
END:VEVENT
BEGIN:VEVENT
DTSTART;TZID=America/New_York:20260816T100000
DTEND;TZID=America/New_York:20260816T230000
DTSTAMP:20260424T095410
CREATED:20260313T175904Z
LAST-MODIFIED:20260313T180510Z
UID:10004268-1786874400-1786921200@slatersvillechurch.org
SUMMARY:Worship
DESCRIPTION:
URL:https://slatersvillechurch.org/event/worship/2026-08-16/
LOCATION:Slatersville Congregational Church\, 25 Greene St\, Slatersville\, RI\, 02876\, United States
ATTACH;FMTTYPE=image/jpeg:https://slatersvillechurch.org/wp-content/uploads/2023/03/worship1.jpg
END:VEVENT
BEGIN:VEVENT
DTSTART;TZID=America/New_York:20260823T100000
DTEND;TZID=America/New_York:20260823T230000
DTSTAMP:20260424T095410
CREATED:20260313T175904Z
LAST-MODIFIED:20260313T180510Z
UID:10004269-1787479200-1787526000@slatersvillechurch.org
SUMMARY:Worship
DESCRIPTION:
URL:https://slatersvillechurch.org/event/worship/2026-08-23/
LOCATION:Slatersville Congregational Church\, 25 Greene St\, Slatersville\, RI\, 02876\, United States
ATTACH;FMTTYPE=image/jpeg:https://slatersvillechurch.org/wp-content/uploads/2023/03/worship1.jpg
END:VEVENT
BEGIN:VEVENT
DTSTART;TZID=America/New_York:20260830T100000
DTEND;TZID=America/New_York:20260830T230000
DTSTAMP:20260424T095410
CREATED:20260313T175904Z
LAST-MODIFIED:20260313T180510Z
UID:10004270-1788084000-1788130800@slatersvillechurch.org
SUMMARY:Worship
DESCRIPTION:
URL:https://slatersvillechurch.org/event/worship/2026-08-30/
LOCATION:Slatersville Congregational Church\, 25 Greene St\, Slatersville\, RI\, 02876\, United States
ATTACH;FMTTYPE=image/jpeg:https://slatersvillechurch.org/wp-content/uploads/2023/03/worship1.jpg
END:VEVENT
BEGIN:VEVENT
DTSTART;TZID=America/New_York:20260906T100000
DTEND;TZID=America/New_York:20260906T230000
DTSTAMP:20260424T095410
CREATED:20260313T175904Z
LAST-MODIFIED:20260313T180510Z
UID:10004271-1788688800-1788735600@slatersvillechurch.org
SUMMARY:Worship
DESCRIPTION:
URL:https://slatersvillechurch.org/event/worship/2026-09-06/
LOCATION:Slatersville Congregational Church\, 25 Greene St\, Slatersville\, RI\, 02876\, United States
ATTACH;FMTTYPE=image/jpeg:https://slatersvillechurch.org/wp-content/uploads/2023/03/worship1.jpg
END:VEVENT
BEGIN:VEVENT
DTSTART;TZID=America/New_York:20260913T100000
DTEND;TZID=America/New_York:20260913T230000
DTSTAMP:20260424T095410
CREATED:20260313T175904Z
LAST-MODIFIED:20260313T180510Z
UID:10004272-1789293600-1789340400@slatersvillechurch.org
SUMMARY:Worship
DESCRIPTION:
URL:https://slatersvillechurch.org/event/worship/2026-09-13/
LOCATION:Slatersville Congregational Church\, 25 Greene St\, Slatersville\, RI\, 02876\, United States
ATTACH;FMTTYPE=image/jpeg:https://slatersvillechurch.org/wp-content/uploads/2023/03/worship1.jpg
END:VEVENT
BEGIN:VEVENT
DTSTART;TZID=America/New_York:20260920T100000
DTEND;TZID=America/New_York:20260920T230000
DTSTAMP:20260424T095410
CREATED:20260313T175904Z
LAST-MODIFIED:20260313T180510Z
UID:10004273-1789898400-1789945200@slatersvillechurch.org
SUMMARY:Worship
DESCRIPTION:
URL:https://slatersvillechurch.org/event/worship/2026-09-20/
LOCATION:Slatersville Congregational Church\, 25 Greene St\, Slatersville\, RI\, 02876\, United States
ATTACH;FMTTYPE=image/jpeg:https://slatersvillechurch.org/wp-content/uploads/2023/03/worship1.jpg
END:VEVENT
BEGIN:VEVENT
DTSTART;TZID=America/New_York:20260927T100000
DTEND;TZID=America/New_York:20260927T230000
DTSTAMP:20260424T095410
CREATED:20260313T175904Z
LAST-MODIFIED:20260313T180510Z
UID:10004274-1790503200-1790550000@slatersvillechurch.org
SUMMARY:Worship
DESCRIPTION:
URL:https://slatersvillechurch.org/event/worship/2026-09-27/
LOCATION:Slatersville Congregational Church\, 25 Greene St\, Slatersville\, RI\, 02876\, United States
ATTACH;FMTTYPE=image/jpeg:https://slatersvillechurch.org/wp-content/uploads/2023/03/worship1.jpg
END:VEVENT
BEGIN:VEVENT
DTSTART;TZID=America/New_York:20261004T100000
DTEND;TZID=America/New_York:20261004T230000
DTSTAMP:20260424T095410
CREATED:20260313T175904Z
LAST-MODIFIED:20260313T180510Z
UID:10004275-1791108000-1791154800@slatersvillechurch.org
SUMMARY:Worship
DESCRIPTION:
URL:https://slatersvillechurch.org/event/worship/2026-10-04/
LOCATION:Slatersville Congregational Church\, 25 Greene St\, Slatersville\, RI\, 02876\, United States
ATTACH;FMTTYPE=image/jpeg:https://slatersvillechurch.org/wp-content/uploads/2023/03/worship1.jpg
END:VEVENT
BEGIN:VEVENT
DTSTART;TZID=America/New_York:20261011T100000
DTEND;TZID=America/New_York:20261011T230000
DTSTAMP:20260424T095410
CREATED:20260313T175904Z
LAST-MODIFIED:20260313T180510Z
UID:10004276-1791712800-1791759600@slatersvillechurch.org
SUMMARY:Worship
DESCRIPTION:
URL:https://slatersvillechurch.org/event/worship/2026-10-11/
LOCATION:Slatersville Congregational Church\, 25 Greene St\, Slatersville\, RI\, 02876\, United States
ATTACH;FMTTYPE=image/jpeg:https://slatersvillechurch.org/wp-content/uploads/2023/03/worship1.jpg
END:VEVENT
BEGIN:VEVENT
DTSTART;TZID=America/New_York:20261018T100000
DTEND;TZID=America/New_York:20261018T230000
DTSTAMP:20260424T095410
CREATED:20260313T175904Z
LAST-MODIFIED:20260313T180510Z
UID:10004277-1792317600-1792364400@slatersvillechurch.org
SUMMARY:Worship
DESCRIPTION:
URL:https://slatersvillechurch.org/event/worship/2026-10-18/
LOCATION:Slatersville Congregational Church\, 25 Greene St\, Slatersville\, RI\, 02876\, United States
ATTACH;FMTTYPE=image/jpeg:https://slatersvillechurch.org/wp-content/uploads/2023/03/worship1.jpg
END:VEVENT
BEGIN:VEVENT
DTSTART;TZID=America/New_York:20261025T100000
DTEND;TZID=America/New_York:20261025T230000
DTSTAMP:20260424T095410
CREATED:20260313T175904Z
LAST-MODIFIED:20260313T180510Z
UID:10004278-1792922400-1792969200@slatersvillechurch.org
SUMMARY:Worship
DESCRIPTION:
URL:https://slatersvillechurch.org/event/worship/2026-10-25/
LOCATION:Slatersville Congregational Church\, 25 Greene St\, Slatersville\, RI\, 02876\, United States
ATTACH;FMTTYPE=image/jpeg:https://slatersvillechurch.org/wp-content/uploads/2023/03/worship1.jpg
END:VEVENT
BEGIN:VEVENT
DTSTART;TZID=America/New_York:20261101T100000
DTEND;TZID=America/New_York:20261101T230000
DTSTAMP:20260424T095410
CREATED:20260313T175904Z
LAST-MODIFIED:20260313T180510Z
UID:10004279-1793527200-1793574000@slatersvillechurch.org
SUMMARY:Worship
DESCRIPTION:
URL:https://slatersvillechurch.org/event/worship/2026-11-01/
LOCATION:Slatersville Congregational Church\, 25 Greene St\, Slatersville\, RI\, 02876\, United States
ATTACH;FMTTYPE=image/jpeg:https://slatersvillechurch.org/wp-content/uploads/2023/03/worship1.jpg
END:VEVENT
BEGIN:VEVENT
DTSTART;TZID=America/New_York:20261108T100000
DTEND;TZID=America/New_York:20261108T230000
DTSTAMP:20260424T095410
CREATED:20260313T175904Z
LAST-MODIFIED:20260313T180510Z
UID:10004280-1794132000-1794178800@slatersvillechurch.org
SUMMARY:Worship
DESCRIPTION:
URL:https://slatersvillechurch.org/event/worship/2026-11-08/
LOCATION:Slatersville Congregational Church\, 25 Greene St\, Slatersville\, RI\, 02876\, United States
ATTACH;FMTTYPE=image/jpeg:https://slatersvillechurch.org/wp-content/uploads/2023/03/worship1.jpg
END:VEVENT
BEGIN:VEVENT
DTSTART;TZID=America/New_York:20261115T100000
DTEND;TZID=America/New_York:20261115T230000
DTSTAMP:20260424T095410
CREATED:20260313T175904Z
LAST-MODIFIED:20260313T180510Z
UID:10004281-1794736800-1794783600@slatersvillechurch.org
SUMMARY:Worship
DESCRIPTION:
URL:https://slatersvillechurch.org/event/worship/2026-11-15/
LOCATION:Slatersville Congregational Church\, 25 Greene St\, Slatersville\, RI\, 02876\, United States
ATTACH;FMTTYPE=image/jpeg:https://slatersvillechurch.org/wp-content/uploads/2023/03/worship1.jpg
END:VEVENT
END:VCALENDAR