BEGIN:VCALENDAR
VERSION:2.0
PRODID:-//Slatersville Congregational Church | UCC church in northern Rhode Island - ECPv6.15.20//NONSGML v1.0//EN
CALSCALE:GREGORIAN
METHOD:PUBLISH
X-ORIGINAL-URL:https://slatersvillechurch.org
X-WR-CALDESC:Events for Slatersville Congregational Church | UCC church in northern Rhode Island
REFRESH-INTERVAL;VALUE=DURATION:PT1H
X-Robots-Tag:noindex
X-PUBLISHED-TTL:PT1H
BEGIN:VTIMEZONE
TZID:America/New_York
BEGIN:DAYLIGHT
TZOFFSETFROM:-0500
TZOFFSETTO:-0400
TZNAME:EDT
DTSTART:20250309T070000
END:DAYLIGHT
BEGIN:STANDARD
TZOFFSETFROM:-0400
TZOFFSETTO:-0500
TZNAME:EST
DTSTART:20251102T060000
END:STANDARD
BEGIN:DAYLIGHT
TZOFFSETFROM:-0500
TZOFFSETTO:-0400
TZNAME:EDT
DTSTART:20260308T070000
END:DAYLIGHT
BEGIN:STANDARD
TZOFFSETFROM:-0400
TZOFFSETTO:-0500
TZNAME:EST
DTSTART:20261101T060000
END:STANDARD
BEGIN:DAYLIGHT
TZOFFSETFROM:-0500
TZOFFSETTO:-0400
TZNAME:EDT
DTSTART:20270314T070000
END:DAYLIGHT
BEGIN:STANDARD
TZOFFSETFROM:-0400
TZOFFSETTO:-0500
TZNAME:EST
DTSTART:20271107T060000
END:STANDARD
END:VTIMEZONE
BEGIN:VEVENT
DTSTART;TZID=America/New_York:20260716T173000
DTEND;TZID=America/New_York:20260716T183000
DTSTAMP:20260424T185456
CREATED:20260313T180132Z
LAST-MODIFIED:20260415T191916Z
UID:10004789-1784223000-1784226600@slatersvillechurch.org
SUMMARY:Small Bells
DESCRIPTION:
URL:https://slatersvillechurch.org/event/small-bells/2026-07-16/
LOCATION:Slatersville Congregational Church\, 25 Greene St\, Slatersville\, RI\, 02876\, United States
ATTACH;FMTTYPE=image/jpeg:https://slatersvillechurch.org/wp-content/uploads/2026/03/children-celebrate-with-musical-bells-alphabet-day-scaled.jpg
END:VEVENT
BEGIN:VEVENT
DTSTART;TZID=America/New_York:20260716T183000
DTEND;TZID=America/New_York:20260716T193000
DTSTAMP:20260424T185456
CREATED:20250908T190105Z
LAST-MODIFIED:20260415T192024Z
UID:10003677-1784226600-1784230200@slatersvillechurch.org
SUMMARY:On the Common Ringers
DESCRIPTION:
URL:https://slatersvillechurch.org/event/on-the-common-ringers/2026-07-16/
LOCATION:Slatersville Congregational Church\, 25 Greene St\, Slatersville\, RI\, 02876\, United States
ATTACH;FMTTYPE=image/jpeg:https://slatersvillechurch.org/wp-content/uploads/2025/05/Handbell1.jpg
END:VEVENT
BEGIN:VEVENT
DTSTART;TZID=America/New_York:20260716T193000
DTEND;TZID=America/New_York:20260716T203000
DTSTAMP:20260424T185456
CREATED:20250908T190740Z
LAST-MODIFIED:20260415T192116Z
UID:10003985-1784230200-1784233800@slatersvillechurch.org
SUMMARY:Senior Choir
DESCRIPTION:
URL:https://slatersvillechurch.org/event/senior-choir/2026-07-16/
LOCATION:Slatersville Congregational Church\, 25 Greene St\, Slatersville\, RI\, 02876\, United States
ATTACH;FMTTYPE=image/jpeg:https://slatersvillechurch.org/wp-content/uploads/2025/06/cartoon-style-music-concept.jpg
END:VEVENT
BEGIN:VEVENT
DTSTART;TZID=America/New_York:20260717T120000
DTEND;TZID=America/New_York:20260717T130000
DTSTAMP:20260424T185456
CREATED:20260313T180254Z
LAST-MODIFIED:20260313T182526Z
UID:10005052-1784289600-1784293200@slatersvillechurch.org
SUMMARY:Chair Yoga
DESCRIPTION:
URL:https://slatersvillechurch.org/event/chair-yoga-3/2026-07-17/
LOCATION:Slatersville Congregational Church\, 25 Greene St\, Slatersville\, RI\, 02876\, United States
ATTACH;FMTTYPE=image/jpeg:https://slatersvillechurch.org/wp-content/uploads/2026/03/chair-yoga-older-person-practicing-home-scaled.jpg
END:VEVENT
BEGIN:VEVENT
DTSTART;TZID=America/New_York:20260719T100000
DTEND;TZID=America/New_York:20260719T230000
DTSTAMP:20260424T185456
CREATED:20260313T175904Z
LAST-MODIFIED:20260313T180510Z
UID:10004264-1784455200-1784502000@slatersvillechurch.org
SUMMARY:Worship
DESCRIPTION:
URL:https://slatersvillechurch.org/event/worship/2026-07-19/
LOCATION:Slatersville Congregational Church\, 25 Greene St\, Slatersville\, RI\, 02876\, United States
ATTACH;FMTTYPE=image/jpeg:https://slatersvillechurch.org/wp-content/uploads/2023/03/worship1.jpg
END:VEVENT
BEGIN:VEVENT
DTSTART;TZID=America/New_York:20260720T190000
DTEND;TZID=America/New_York:20260720T200000
DTSTAMP:20260424T185456
CREATED:20260313T180008Z
LAST-MODIFIED:20260313T180643Z
UID:10004527-1784574000-1784577600@slatersvillechurch.org
SUMMARY:AA
DESCRIPTION:
URL:https://slatersvillechurch.org/event/aa/2026-07-20/
LOCATION:Slatersville Congregational Church\, 25 Greene St\, Slatersville\, RI\, 02876\, United States
ATTACH;FMTTYPE=image/jpeg:https://slatersvillechurch.org/wp-content/uploads/2023/03/group-young-people-sitting-talking-together.jpg
END:VEVENT
BEGIN:VEVENT
DTSTART;TZID=America/New_York:20260723T173000
DTEND;TZID=America/New_York:20260723T183000
DTSTAMP:20260424T185456
CREATED:20260313T180132Z
LAST-MODIFIED:20260415T191916Z
UID:10004790-1784827800-1784831400@slatersvillechurch.org
SUMMARY:Small Bells
DESCRIPTION:
URL:https://slatersvillechurch.org/event/small-bells/2026-07-23/
LOCATION:Slatersville Congregational Church\, 25 Greene St\, Slatersville\, RI\, 02876\, United States
ATTACH;FMTTYPE=image/jpeg:https://slatersvillechurch.org/wp-content/uploads/2026/03/children-celebrate-with-musical-bells-alphabet-day-scaled.jpg
END:VEVENT
BEGIN:VEVENT
DTSTART;TZID=America/New_York:20260723T183000
DTEND;TZID=America/New_York:20260723T193000
DTSTAMP:20260424T185456
CREATED:20250908T190105Z
LAST-MODIFIED:20260415T192024Z
UID:10003678-1784831400-1784835000@slatersvillechurch.org
SUMMARY:On the Common Ringers
DESCRIPTION:
URL:https://slatersvillechurch.org/event/on-the-common-ringers/2026-07-23/
LOCATION:Slatersville Congregational Church\, 25 Greene St\, Slatersville\, RI\, 02876\, United States
ATTACH;FMTTYPE=image/jpeg:https://slatersvillechurch.org/wp-content/uploads/2025/05/Handbell1.jpg
END:VEVENT
BEGIN:VEVENT
DTSTART;TZID=America/New_York:20260723T193000
DTEND;TZID=America/New_York:20260723T203000
DTSTAMP:20260424T185456
CREATED:20250908T190740Z
LAST-MODIFIED:20260415T192116Z
UID:10003986-1784835000-1784838600@slatersvillechurch.org
SUMMARY:Senior Choir
DESCRIPTION:
URL:https://slatersvillechurch.org/event/senior-choir/2026-07-23/
LOCATION:Slatersville Congregational Church\, 25 Greene St\, Slatersville\, RI\, 02876\, United States
ATTACH;FMTTYPE=image/jpeg:https://slatersvillechurch.org/wp-content/uploads/2025/06/cartoon-style-music-concept.jpg
END:VEVENT
BEGIN:VEVENT
DTSTART;TZID=America/New_York:20260724T120000
DTEND;TZID=America/New_York:20260724T130000
DTSTAMP:20260424T185456
CREATED:20260313T180254Z
LAST-MODIFIED:20260313T182526Z
UID:10005053-1784894400-1784898000@slatersvillechurch.org
SUMMARY:Chair Yoga
DESCRIPTION:
URL:https://slatersvillechurch.org/event/chair-yoga-3/2026-07-24/
LOCATION:Slatersville Congregational Church\, 25 Greene St\, Slatersville\, RI\, 02876\, United States
ATTACH;FMTTYPE=image/jpeg:https://slatersvillechurch.org/wp-content/uploads/2026/03/chair-yoga-older-person-practicing-home-scaled.jpg
END:VEVENT
BEGIN:VEVENT
DTSTART;TZID=America/New_York:20260726T100000
DTEND;TZID=America/New_York:20260726T230000
DTSTAMP:20260424T185456
CREATED:20260313T175904Z
LAST-MODIFIED:20260313T180510Z
UID:10004265-1785060000-1785106800@slatersvillechurch.org
SUMMARY:Worship
DESCRIPTION:
URL:https://slatersvillechurch.org/event/worship/2026-07-26/
LOCATION:Slatersville Congregational Church\, 25 Greene St\, Slatersville\, RI\, 02876\, United States
ATTACH;FMTTYPE=image/jpeg:https://slatersvillechurch.org/wp-content/uploads/2023/03/worship1.jpg
END:VEVENT
BEGIN:VEVENT
DTSTART;TZID=America/New_York:20260727T190000
DTEND;TZID=America/New_York:20260727T200000
DTSTAMP:20260424T185456
CREATED:20260313T180008Z
LAST-MODIFIED:20260313T180643Z
UID:10004528-1785178800-1785182400@slatersvillechurch.org
SUMMARY:AA
DESCRIPTION:
URL:https://slatersvillechurch.org/event/aa/2026-07-27/
LOCATION:Slatersville Congregational Church\, 25 Greene St\, Slatersville\, RI\, 02876\, United States
ATTACH;FMTTYPE=image/jpeg:https://slatersvillechurch.org/wp-content/uploads/2023/03/group-young-people-sitting-talking-together.jpg
END:VEVENT
BEGIN:VEVENT
DTSTART;TZID=America/New_York:20260730T173000
DTEND;TZID=America/New_York:20260730T183000
DTSTAMP:20260424T185456
CREATED:20260313T180132Z
LAST-MODIFIED:20260415T191916Z
UID:10004791-1785432600-1785436200@slatersvillechurch.org
SUMMARY:Small Bells
DESCRIPTION:
URL:https://slatersvillechurch.org/event/small-bells/2026-07-30/
LOCATION:Slatersville Congregational Church\, 25 Greene St\, Slatersville\, RI\, 02876\, United States
ATTACH;FMTTYPE=image/jpeg:https://slatersvillechurch.org/wp-content/uploads/2026/03/children-celebrate-with-musical-bells-alphabet-day-scaled.jpg
END:VEVENT
BEGIN:VEVENT
DTSTART;TZID=America/New_York:20260730T183000
DTEND;TZID=America/New_York:20260730T193000
DTSTAMP:20260424T185457
CREATED:20250908T190105Z
LAST-MODIFIED:20260415T192024Z
UID:10003679-1785436200-1785439800@slatersvillechurch.org
SUMMARY:On the Common Ringers
DESCRIPTION:
URL:https://slatersvillechurch.org/event/on-the-common-ringers/2026-07-30/
LOCATION:Slatersville Congregational Church\, 25 Greene St\, Slatersville\, RI\, 02876\, United States
ATTACH;FMTTYPE=image/jpeg:https://slatersvillechurch.org/wp-content/uploads/2025/05/Handbell1.jpg
END:VEVENT
BEGIN:VEVENT
DTSTART;TZID=America/New_York:20260730T193000
DTEND;TZID=America/New_York:20260730T203000
DTSTAMP:20260424T185457
CREATED:20250908T190740Z
LAST-MODIFIED:20260415T192116Z
UID:10003987-1785439800-1785443400@slatersvillechurch.org
SUMMARY:Senior Choir
DESCRIPTION:
URL:https://slatersvillechurch.org/event/senior-choir/2026-07-30/
LOCATION:Slatersville Congregational Church\, 25 Greene St\, Slatersville\, RI\, 02876\, United States
ATTACH;FMTTYPE=image/jpeg:https://slatersvillechurch.org/wp-content/uploads/2025/06/cartoon-style-music-concept.jpg
END:VEVENT
BEGIN:VEVENT
DTSTART;TZID=America/New_York:20260731T120000
DTEND;TZID=America/New_York:20260731T130000
DTSTAMP:20260424T185457
CREATED:20260313T180254Z
LAST-MODIFIED:20260313T182526Z
UID:10005054-1785499200-1785502800@slatersvillechurch.org
SUMMARY:Chair Yoga
DESCRIPTION:
URL:https://slatersvillechurch.org/event/chair-yoga-3/2026-07-31/
LOCATION:Slatersville Congregational Church\, 25 Greene St\, Slatersville\, RI\, 02876\, United States
ATTACH;FMTTYPE=image/jpeg:https://slatersvillechurch.org/wp-content/uploads/2026/03/chair-yoga-older-person-practicing-home-scaled.jpg
END:VEVENT
BEGIN:VEVENT
DTSTART;TZID=America/New_York:20260802T100000
DTEND;TZID=America/New_York:20260802T230000
DTSTAMP:20260424T185457
CREATED:20260313T175904Z
LAST-MODIFIED:20260313T180510Z
UID:10004266-1785664800-1785711600@slatersvillechurch.org
SUMMARY:Worship
DESCRIPTION:
URL:https://slatersvillechurch.org/event/worship/2026-08-02/
LOCATION:Slatersville Congregational Church\, 25 Greene St\, Slatersville\, RI\, 02876\, United States
ATTACH;FMTTYPE=image/jpeg:https://slatersvillechurch.org/wp-content/uploads/2023/03/worship1.jpg
END:VEVENT
BEGIN:VEVENT
DTSTART;TZID=America/New_York:20260803T190000
DTEND;TZID=America/New_York:20260803T200000
DTSTAMP:20260424T185457
CREATED:20260313T180008Z
LAST-MODIFIED:20260313T180643Z
UID:10004529-1785783600-1785787200@slatersvillechurch.org
SUMMARY:AA
DESCRIPTION:
URL:https://slatersvillechurch.org/event/aa/2026-08-03/
LOCATION:Slatersville Congregational Church\, 25 Greene St\, Slatersville\, RI\, 02876\, United States
ATTACH;FMTTYPE=image/jpeg:https://slatersvillechurch.org/wp-content/uploads/2023/03/group-young-people-sitting-talking-together.jpg
END:VEVENT
BEGIN:VEVENT
DTSTART;TZID=America/New_York:20260806T173000
DTEND;TZID=America/New_York:20260806T183000
DTSTAMP:20260424T185457
CREATED:20260313T180132Z
LAST-MODIFIED:20260415T191916Z
UID:10004792-1786037400-1786041000@slatersvillechurch.org
SUMMARY:Small Bells
DESCRIPTION:
URL:https://slatersvillechurch.org/event/small-bells/2026-08-06/
LOCATION:Slatersville Congregational Church\, 25 Greene St\, Slatersville\, RI\, 02876\, United States
ATTACH;FMTTYPE=image/jpeg:https://slatersvillechurch.org/wp-content/uploads/2026/03/children-celebrate-with-musical-bells-alphabet-day-scaled.jpg
END:VEVENT
BEGIN:VEVENT
DTSTART;TZID=America/New_York:20260806T183000
DTEND;TZID=America/New_York:20260806T193000
DTSTAMP:20260424T185457
CREATED:20250908T190105Z
LAST-MODIFIED:20260415T192024Z
UID:10003680-1786041000-1786044600@slatersvillechurch.org
SUMMARY:On the Common Ringers
DESCRIPTION:
URL:https://slatersvillechurch.org/event/on-the-common-ringers/2026-08-06/
LOCATION:Slatersville Congregational Church\, 25 Greene St\, Slatersville\, RI\, 02876\, United States
ATTACH;FMTTYPE=image/jpeg:https://slatersvillechurch.org/wp-content/uploads/2025/05/Handbell1.jpg
END:VEVENT
BEGIN:VEVENT
DTSTART;TZID=America/New_York:20260806T193000
DTEND;TZID=America/New_York:20260806T203000
DTSTAMP:20260424T185457
CREATED:20250908T190740Z
LAST-MODIFIED:20260415T192116Z
UID:10003988-1786044600-1786048200@slatersvillechurch.org
SUMMARY:Senior Choir
DESCRIPTION:
URL:https://slatersvillechurch.org/event/senior-choir/2026-08-06/
LOCATION:Slatersville Congregational Church\, 25 Greene St\, Slatersville\, RI\, 02876\, United States
ATTACH;FMTTYPE=image/jpeg:https://slatersvillechurch.org/wp-content/uploads/2025/06/cartoon-style-music-concept.jpg
END:VEVENT
BEGIN:VEVENT
DTSTART;TZID=America/New_York:20260807T120000
DTEND;TZID=America/New_York:20260807T130000
DTSTAMP:20260424T185457
CREATED:20260313T180254Z
LAST-MODIFIED:20260313T182526Z
UID:10005055-1786104000-1786107600@slatersvillechurch.org
SUMMARY:Chair Yoga
DESCRIPTION:
URL:https://slatersvillechurch.org/event/chair-yoga-3/2026-08-07/
LOCATION:Slatersville Congregational Church\, 25 Greene St\, Slatersville\, RI\, 02876\, United States
ATTACH;FMTTYPE=image/jpeg:https://slatersvillechurch.org/wp-content/uploads/2026/03/chair-yoga-older-person-practicing-home-scaled.jpg
END:VEVENT
BEGIN:VEVENT
DTSTART;TZID=America/New_York:20260809T100000
DTEND;TZID=America/New_York:20260809T230000
DTSTAMP:20260424T185457
CREATED:20260313T175904Z
LAST-MODIFIED:20260313T180510Z
UID:10004267-1786269600-1786316400@slatersvillechurch.org
SUMMARY:Worship
DESCRIPTION:
URL:https://slatersvillechurch.org/event/worship/2026-08-09/
LOCATION:Slatersville Congregational Church\, 25 Greene St\, Slatersville\, RI\, 02876\, United States
ATTACH;FMTTYPE=image/jpeg:https://slatersvillechurch.org/wp-content/uploads/2023/03/worship1.jpg
END:VEVENT
BEGIN:VEVENT
DTSTART;TZID=America/New_York:20260810T190000
DTEND;TZID=America/New_York:20260810T200000
DTSTAMP:20260424T185457
CREATED:20260313T180008Z
LAST-MODIFIED:20260313T180643Z
UID:10004530-1786388400-1786392000@slatersvillechurch.org
SUMMARY:AA
DESCRIPTION:
URL:https://slatersvillechurch.org/event/aa/2026-08-10/
LOCATION:Slatersville Congregational Church\, 25 Greene St\, Slatersville\, RI\, 02876\, United States
ATTACH;FMTTYPE=image/jpeg:https://slatersvillechurch.org/wp-content/uploads/2023/03/group-young-people-sitting-talking-together.jpg
END:VEVENT
BEGIN:VEVENT
DTSTART;TZID=America/New_York:20260813T173000
DTEND;TZID=America/New_York:20260813T183000
DTSTAMP:20260424T185457
CREATED:20260313T180132Z
LAST-MODIFIED:20260415T191916Z
UID:10004793-1786642200-1786645800@slatersvillechurch.org
SUMMARY:Small Bells
DESCRIPTION:
URL:https://slatersvillechurch.org/event/small-bells/2026-08-13/
LOCATION:Slatersville Congregational Church\, 25 Greene St\, Slatersville\, RI\, 02876\, United States
ATTACH;FMTTYPE=image/jpeg:https://slatersvillechurch.org/wp-content/uploads/2026/03/children-celebrate-with-musical-bells-alphabet-day-scaled.jpg
END:VEVENT
BEGIN:VEVENT
DTSTART;TZID=America/New_York:20260813T183000
DTEND;TZID=America/New_York:20260813T193000
DTSTAMP:20260424T185457
CREATED:20250908T190105Z
LAST-MODIFIED:20260415T192024Z
UID:10003681-1786645800-1786649400@slatersvillechurch.org
SUMMARY:On the Common Ringers
DESCRIPTION:
URL:https://slatersvillechurch.org/event/on-the-common-ringers/2026-08-13/
LOCATION:Slatersville Congregational Church\, 25 Greene St\, Slatersville\, RI\, 02876\, United States
ATTACH;FMTTYPE=image/jpeg:https://slatersvillechurch.org/wp-content/uploads/2025/05/Handbell1.jpg
END:VEVENT
BEGIN:VEVENT
DTSTART;TZID=America/New_York:20260813T193000
DTEND;TZID=America/New_York:20260813T203000
DTSTAMP:20260424T185457
CREATED:20250908T190740Z
LAST-MODIFIED:20260415T192116Z
UID:10003989-1786649400-1786653000@slatersvillechurch.org
SUMMARY:Senior Choir
DESCRIPTION:
URL:https://slatersvillechurch.org/event/senior-choir/2026-08-13/
LOCATION:Slatersville Congregational Church\, 25 Greene St\, Slatersville\, RI\, 02876\, United States
ATTACH;FMTTYPE=image/jpeg:https://slatersvillechurch.org/wp-content/uploads/2025/06/cartoon-style-music-concept.jpg
END:VEVENT
BEGIN:VEVENT
DTSTART;TZID=America/New_York:20260814T120000
DTEND;TZID=America/New_York:20260814T130000
DTSTAMP:20260424T185457
CREATED:20260313T180254Z
LAST-MODIFIED:20260313T182526Z
UID:10005056-1786708800-1786712400@slatersvillechurch.org
SUMMARY:Chair Yoga
DESCRIPTION:
URL:https://slatersvillechurch.org/event/chair-yoga-3/2026-08-14/
LOCATION:Slatersville Congregational Church\, 25 Greene St\, Slatersville\, RI\, 02876\, United States
ATTACH;FMTTYPE=image/jpeg:https://slatersvillechurch.org/wp-content/uploads/2026/03/chair-yoga-older-person-practicing-home-scaled.jpg
END:VEVENT
BEGIN:VEVENT
DTSTART;TZID=America/New_York:20260816T100000
DTEND;TZID=America/New_York:20260816T230000
DTSTAMP:20260424T185457
CREATED:20260313T175904Z
LAST-MODIFIED:20260313T180510Z
UID:10004268-1786874400-1786921200@slatersvillechurch.org
SUMMARY:Worship
DESCRIPTION:
URL:https://slatersvillechurch.org/event/worship/2026-08-16/
LOCATION:Slatersville Congregational Church\, 25 Greene St\, Slatersville\, RI\, 02876\, United States
ATTACH;FMTTYPE=image/jpeg:https://slatersvillechurch.org/wp-content/uploads/2023/03/worship1.jpg
END:VEVENT
BEGIN:VEVENT
DTSTART;TZID=America/New_York:20260817T190000
DTEND;TZID=America/New_York:20260817T200000
DTSTAMP:20260424T185457
CREATED:20260313T180008Z
LAST-MODIFIED:20260313T180643Z
UID:10004531-1786993200-1786996800@slatersvillechurch.org
SUMMARY:AA
DESCRIPTION:
URL:https://slatersvillechurch.org/event/aa/2026-08-17/
LOCATION:Slatersville Congregational Church\, 25 Greene St\, Slatersville\, RI\, 02876\, United States
ATTACH;FMTTYPE=image/jpeg:https://slatersvillechurch.org/wp-content/uploads/2023/03/group-young-people-sitting-talking-together.jpg
END:VEVENT
END:VCALENDAR