BEGIN:VCALENDAR
VERSION:2.0
PRODID:-//Slatersville Congregational Church | UCC church in northern Rhode Island - ECPv6.15.20//NONSGML v1.0//EN
CALSCALE:GREGORIAN
METHOD:PUBLISH
X-ORIGINAL-URL:https://slatersvillechurch.org
X-WR-CALDESC:Events for Slatersville Congregational Church | UCC church in northern Rhode Island
REFRESH-INTERVAL;VALUE=DURATION:PT1H
X-Robots-Tag:noindex
X-PUBLISHED-TTL:PT1H
BEGIN:VTIMEZONE
TZID:America/New_York
BEGIN:DAYLIGHT
TZOFFSETFROM:-0500
TZOFFSETTO:-0400
TZNAME:EDT
DTSTART:20250309T070000
END:DAYLIGHT
BEGIN:STANDARD
TZOFFSETFROM:-0400
TZOFFSETTO:-0500
TZNAME:EST
DTSTART:20251102T060000
END:STANDARD
BEGIN:DAYLIGHT
TZOFFSETFROM:-0500
TZOFFSETTO:-0400
TZNAME:EDT
DTSTART:20260308T070000
END:DAYLIGHT
BEGIN:STANDARD
TZOFFSETFROM:-0400
TZOFFSETTO:-0500
TZNAME:EST
DTSTART:20261101T060000
END:STANDARD
BEGIN:DAYLIGHT
TZOFFSETFROM:-0500
TZOFFSETTO:-0400
TZNAME:EDT
DTSTART:20270314T070000
END:DAYLIGHT
BEGIN:STANDARD
TZOFFSETFROM:-0400
TZOFFSETTO:-0500
TZNAME:EST
DTSTART:20271107T060000
END:STANDARD
END:VTIMEZONE
BEGIN:VEVENT
DTSTART;TZID=America/New_York:20260406T190000
DTEND;TZID=America/New_York:20260406T200000
DTSTAMP:20260424T120839
CREATED:20260313T180008Z
LAST-MODIFIED:20260313T180643Z
UID:10004512-1775502000-1775505600@slatersvillechurch.org
SUMMARY:AA
DESCRIPTION:
URL:https://slatersvillechurch.org/event/aa/2026-04-06/
LOCATION:Slatersville Congregational Church\, 25 Greene St\, Slatersville\, RI\, 02876\, United States
ATTACH;FMTTYPE=image/jpeg:https://slatersvillechurch.org/wp-content/uploads/2023/03/group-young-people-sitting-talking-together.jpg
END:VEVENT
BEGIN:VEVENT
DTSTART;TZID=America/New_York:20260409T173000
DTEND;TZID=America/New_York:20260409T183000
DTSTAMP:20260424T120839
CREATED:20260313T180132Z
LAST-MODIFIED:20260415T191916Z
UID:10004775-1775755800-1775759400@slatersvillechurch.org
SUMMARY:Small Bells
DESCRIPTION:
URL:https://slatersvillechurch.org/event/small-bells/2026-04-09/
LOCATION:Slatersville Congregational Church\, 25 Greene St\, Slatersville\, RI\, 02876\, United States
ATTACH;FMTTYPE=image/jpeg:https://slatersvillechurch.org/wp-content/uploads/2026/03/children-celebrate-with-musical-bells-alphabet-day-scaled.jpg
END:VEVENT
BEGIN:VEVENT
DTSTART;TZID=America/New_York:20260409T183000
DTEND;TZID=America/New_York:20260409T193000
DTSTAMP:20260424T120839
CREATED:20250908T190105Z
LAST-MODIFIED:20260415T192024Z
UID:10003663-1775759400-1775763000@slatersvillechurch.org
SUMMARY:On the Common Ringers
DESCRIPTION:
URL:https://slatersvillechurch.org/event/on-the-common-ringers/2026-04-09/
LOCATION:Slatersville Congregational Church\, 25 Greene St\, Slatersville\, RI\, 02876\, United States
ATTACH;FMTTYPE=image/jpeg:https://slatersvillechurch.org/wp-content/uploads/2025/05/Handbell1.jpg
END:VEVENT
BEGIN:VEVENT
DTSTART;TZID=America/New_York:20260409T193000
DTEND;TZID=America/New_York:20260409T203000
DTSTAMP:20260424T120839
CREATED:20250908T190740Z
LAST-MODIFIED:20260415T192116Z
UID:10003971-1775763000-1775766600@slatersvillechurch.org
SUMMARY:Senior Choir
DESCRIPTION:
URL:https://slatersvillechurch.org/event/senior-choir/2026-04-09/
LOCATION:Slatersville Congregational Church\, 25 Greene St\, Slatersville\, RI\, 02876\, United States
ATTACH;FMTTYPE=image/jpeg:https://slatersvillechurch.org/wp-content/uploads/2025/06/cartoon-style-music-concept.jpg
END:VEVENT
BEGIN:VEVENT
DTSTART;TZID=America/New_York:20260410T120000
DTEND;TZID=America/New_York:20260410T130000
DTSTAMP:20260424T120839
CREATED:20260313T180254Z
LAST-MODIFIED:20260313T182526Z
UID:10005038-1775822400-1775826000@slatersvillechurch.org
SUMMARY:Chair Yoga
DESCRIPTION:
URL:https://slatersvillechurch.org/event/chair-yoga-3/2026-04-10/
LOCATION:Slatersville Congregational Church\, 25 Greene St\, Slatersville\, RI\, 02876\, United States
ATTACH;FMTTYPE=image/jpeg:https://slatersvillechurch.org/wp-content/uploads/2026/03/chair-yoga-older-person-practicing-home-scaled.jpg
END:VEVENT
BEGIN:VEVENT
DTSTART;TZID=America/New_York:20260412T100000
DTEND;TZID=America/New_York:20260412T230000
DTSTAMP:20260424T120839
CREATED:20260313T175904Z
LAST-MODIFIED:20260313T180510Z
UID:10004250-1775988000-1776034800@slatersvillechurch.org
SUMMARY:Worship
DESCRIPTION:
URL:https://slatersvillechurch.org/event/worship/2026-04-12/
LOCATION:Slatersville Congregational Church\, 25 Greene St\, Slatersville\, RI\, 02876\, United States
ATTACH;FMTTYPE=image/jpeg:https://slatersvillechurch.org/wp-content/uploads/2023/03/worship1.jpg
END:VEVENT
BEGIN:VEVENT
DTSTART;TZID=America/New_York:20260413T190000
DTEND;TZID=America/New_York:20260413T200000
DTSTAMP:20260424T120839
CREATED:20260313T180008Z
LAST-MODIFIED:20260313T180643Z
UID:10004513-1776106800-1776110400@slatersvillechurch.org
SUMMARY:AA
DESCRIPTION:
URL:https://slatersvillechurch.org/event/aa/2026-04-13/
LOCATION:Slatersville Congregational Church\, 25 Greene St\, Slatersville\, RI\, 02876\, United States
ATTACH;FMTTYPE=image/jpeg:https://slatersvillechurch.org/wp-content/uploads/2023/03/group-young-people-sitting-talking-together.jpg
END:VEVENT
BEGIN:VEVENT
DTSTART;TZID=America/New_York:20260414T190000
DTEND;TZID=America/New_York:20260414T200000
DTSTAMP:20260424T120839
CREATED:20260415T192949Z
LAST-MODIFIED:20260415T192949Z
UID:10005353-1776193200-1776196800@slatersvillechurch.org
SUMMARY:Missions Committee
DESCRIPTION:
URL:https://slatersvillechurch.org/event/missions-committee/
LOCATION:Slatersville Congregational Church\, 25 Greene St\, Slatersville\, RI\, 02876\, United States
ATTACH;FMTTYPE=image/jpeg:https://slatersvillechurch.org/wp-content/uploads/2023/04/missions-moment.jpg
END:VEVENT
BEGIN:VEVENT
DTSTART;TZID=America/New_York:20260414T190000
DTEND;TZID=America/New_York:20260414T200000
DTSTAMP:20260424T120839
CREATED:20260415T193016Z
LAST-MODIFIED:20260415T193016Z
UID:10005354-1776193200-1776196800@slatersvillechurch.org
SUMMARY:Deacons Meeting
DESCRIPTION:
URL:https://slatersvillechurch.org/event/deacons-meeting-2/
LOCATION:Slatersville Congregational Church\, 25 Greene St\, Slatersville\, RI\, 02876\, United States
ATTACH;FMTTYPE=image/jpeg:https://slatersvillechurch.org/wp-content/uploads/2026/03/top-view-business-people-documents-meeting-teamwork-cooperation-with-brainstorming-group-staff-employees-with-paperwork-tech-sales-report-with-feedback-review-collaboration-scaled.jpg
END:VEVENT
BEGIN:VEVENT
DTSTART;TZID=America/New_York:20260416T173000
DTEND;TZID=America/New_York:20260416T183000
DTSTAMP:20260424T120839
CREATED:20260313T180132Z
LAST-MODIFIED:20260415T191916Z
UID:10004776-1776360600-1776364200@slatersvillechurch.org
SUMMARY:Small Bells
DESCRIPTION:
URL:https://slatersvillechurch.org/event/small-bells/2026-04-16/
LOCATION:Slatersville Congregational Church\, 25 Greene St\, Slatersville\, RI\, 02876\, United States
ATTACH;FMTTYPE=image/jpeg:https://slatersvillechurch.org/wp-content/uploads/2026/03/children-celebrate-with-musical-bells-alphabet-day-scaled.jpg
END:VEVENT
BEGIN:VEVENT
DTSTART;TZID=America/New_York:20260416T183000
DTEND;TZID=America/New_York:20260416T193000
DTSTAMP:20260424T120839
CREATED:20250908T190105Z
LAST-MODIFIED:20260415T192024Z
UID:10003664-1776364200-1776367800@slatersvillechurch.org
SUMMARY:On the Common Ringers
DESCRIPTION:
URL:https://slatersvillechurch.org/event/on-the-common-ringers/2026-04-16/
LOCATION:Slatersville Congregational Church\, 25 Greene St\, Slatersville\, RI\, 02876\, United States
ATTACH;FMTTYPE=image/jpeg:https://slatersvillechurch.org/wp-content/uploads/2025/05/Handbell1.jpg
END:VEVENT
BEGIN:VEVENT
DTSTART;TZID=America/New_York:20260416T193000
DTEND;TZID=America/New_York:20260416T203000
DTSTAMP:20260424T120839
CREATED:20250908T190740Z
LAST-MODIFIED:20260415T192116Z
UID:10003972-1776367800-1776371400@slatersvillechurch.org
SUMMARY:Senior Choir
DESCRIPTION:
URL:https://slatersvillechurch.org/event/senior-choir/2026-04-16/
LOCATION:Slatersville Congregational Church\, 25 Greene St\, Slatersville\, RI\, 02876\, United States
ATTACH;FMTTYPE=image/jpeg:https://slatersvillechurch.org/wp-content/uploads/2025/06/cartoon-style-music-concept.jpg
END:VEVENT
BEGIN:VEVENT
DTSTART;TZID=America/New_York:20260417T120000
DTEND;TZID=America/New_York:20260417T130000
DTSTAMP:20260424T120839
CREATED:20260313T180254Z
LAST-MODIFIED:20260313T182526Z
UID:10005039-1776427200-1776430800@slatersvillechurch.org
SUMMARY:Chair Yoga
DESCRIPTION:
URL:https://slatersvillechurch.org/event/chair-yoga-3/2026-04-17/
LOCATION:Slatersville Congregational Church\, 25 Greene St\, Slatersville\, RI\, 02876\, United States
ATTACH;FMTTYPE=image/jpeg:https://slatersvillechurch.org/wp-content/uploads/2026/03/chair-yoga-older-person-practicing-home-scaled.jpg
END:VEVENT
BEGIN:VEVENT
DTSTART;TZID=America/New_York:20260418T100000
DTEND;TZID=America/New_York:20260418T110000
DTSTAMP:20260424T120839
CREATED:20260415T193104Z
LAST-MODIFIED:20260415T193104Z
UID:10005355-1776506400-1776510000@slatersvillechurch.org
SUMMARY:Lil Rhody Ringers
DESCRIPTION:
URL:https://slatersvillechurch.org/event/lil-rhody-ringers-2/
LOCATION:Slatersville Congregational Church\, 25 Greene St\, Slatersville\, RI\, 02876\, United States
ATTACH;FMTTYPE=image/jpeg:https://slatersvillechurch.org/wp-content/uploads/2026/03/children-celebrate-with-musical-bells-alphabet-day-scaled.jpg
END:VEVENT
BEGIN:VEVENT
DTSTART;TZID=America/New_York:20260418T100000
DTEND;TZID=America/New_York:20260418T120000
DTSTAMP:20260424T120839
CREATED:20260313T182841Z
LAST-MODIFIED:20260415T193143Z
UID:10005303-1776506400-1776513600@slatersvillechurch.org
SUMMARY:NS Food Pantry
DESCRIPTION:
URL:https://slatersvillechurch.org/event/ns-food-pantry-3/
LOCATION:Slatersville Congregational Church\, 25 Greene St\, Slatersville\, RI\, 02876\, United States
ATTACH;FMTTYPE=image/jpeg:https://slatersvillechurch.org/wp-content/uploads/2023/04/food-pantry.jpg
END:VEVENT
BEGIN:VEVENT
DTSTART;TZID=America/New_York:20260419T100000
DTEND;TZID=America/New_York:20260419T230000
DTSTAMP:20260424T120839
CREATED:20260313T175904Z
LAST-MODIFIED:20260313T180510Z
UID:10004251-1776592800-1776639600@slatersvillechurch.org
SUMMARY:Worship
DESCRIPTION:
URL:https://slatersvillechurch.org/event/worship/2026-04-19/
LOCATION:Slatersville Congregational Church\, 25 Greene St\, Slatersville\, RI\, 02876\, United States
ATTACH;FMTTYPE=image/jpeg:https://slatersvillechurch.org/wp-content/uploads/2023/03/worship1.jpg
END:VEVENT
BEGIN:VEVENT
DTSTART;TZID=America/New_York:20260420T190000
DTEND;TZID=America/New_York:20260420T200000
DTSTAMP:20260424T120839
CREATED:20260313T180008Z
LAST-MODIFIED:20260313T180643Z
UID:10004514-1776711600-1776715200@slatersvillechurch.org
SUMMARY:AA
DESCRIPTION:
URL:https://slatersvillechurch.org/event/aa/2026-04-20/
LOCATION:Slatersville Congregational Church\, 25 Greene St\, Slatersville\, RI\, 02876\, United States
ATTACH;FMTTYPE=image/jpeg:https://slatersvillechurch.org/wp-content/uploads/2023/03/group-young-people-sitting-talking-together.jpg
END:VEVENT
BEGIN:VEVENT
DTSTART;TZID=America/New_York:20260421T173000
DTEND;TZID=America/New_York:20260421T190000
DTSTAMP:20260424T120839
CREATED:20260313T182932Z
LAST-MODIFIED:20260415T193249Z
UID:10005304-1776792600-1776798000@slatersvillechurch.org
SUMMARY:NS Food Pantry
DESCRIPTION:
URL:https://slatersvillechurch.org/event/ns-food-pantry-4/
LOCATION:Slatersville Congregational Church\, 25 Greene St\, Slatersville\, RI\, 02876\, United States
ATTACH;FMTTYPE=image/jpeg:https://slatersvillechurch.org/wp-content/uploads/2023/04/food-pantry.jpg
END:VEVENT
BEGIN:VEVENT
DTSTART;TZID=America/New_York:20260421T183000
DTEND;TZID=America/New_York:20260421T200000
DTSTAMP:20260424T120839
CREATED:20260415T193341Z
LAST-MODIFIED:20260415T193341Z
UID:10005356-1776796200-1776801600@slatersvillechurch.org
SUMMARY:Council Meeting
DESCRIPTION:
URL:https://slatersvillechurch.org/event/council-meeting-2/
LOCATION:Slatersville Congregational Church\, 25 Greene St\, Slatersville\, RI\, 02876\, United States
ATTACH;FMTTYPE=image/jpeg:https://slatersvillechurch.org/wp-content/uploads/2026/03/senior-businesswoman-handing-financial-report-manager-team-meeting-scaled.jpg
END:VEVENT
BEGIN:VEVENT
DTSTART;TZID=America/New_York:20260423T173000
DTEND;TZID=America/New_York:20260423T183000
DTSTAMP:20260424T120839
CREATED:20260313T180132Z
LAST-MODIFIED:20260415T191916Z
UID:10004777-1776965400-1776969000@slatersvillechurch.org
SUMMARY:Small Bells
DESCRIPTION:
URL:https://slatersvillechurch.org/event/small-bells/2026-04-23/
LOCATION:Slatersville Congregational Church\, 25 Greene St\, Slatersville\, RI\, 02876\, United States
ATTACH;FMTTYPE=image/jpeg:https://slatersvillechurch.org/wp-content/uploads/2026/03/children-celebrate-with-musical-bells-alphabet-day-scaled.jpg
END:VEVENT
BEGIN:VEVENT
DTSTART;TZID=America/New_York:20260423T183000
DTEND;TZID=America/New_York:20260423T193000
DTSTAMP:20260424T120839
CREATED:20250908T190105Z
LAST-MODIFIED:20260415T192024Z
UID:10003665-1776969000-1776972600@slatersvillechurch.org
SUMMARY:On the Common Ringers
DESCRIPTION:
URL:https://slatersvillechurch.org/event/on-the-common-ringers/2026-04-23/
LOCATION:Slatersville Congregational Church\, 25 Greene St\, Slatersville\, RI\, 02876\, United States
ATTACH;FMTTYPE=image/jpeg:https://slatersvillechurch.org/wp-content/uploads/2025/05/Handbell1.jpg
END:VEVENT
BEGIN:VEVENT
DTSTART;TZID=America/New_York:20260423T193000
DTEND;TZID=America/New_York:20260423T203000
DTSTAMP:20260424T120839
CREATED:20250908T190740Z
LAST-MODIFIED:20260415T192116Z
UID:10003973-1776972600-1776976200@slatersvillechurch.org
SUMMARY:Senior Choir
DESCRIPTION:
URL:https://slatersvillechurch.org/event/senior-choir/2026-04-23/
LOCATION:Slatersville Congregational Church\, 25 Greene St\, Slatersville\, RI\, 02876\, United States
ATTACH;FMTTYPE=image/jpeg:https://slatersvillechurch.org/wp-content/uploads/2025/06/cartoon-style-music-concept.jpg
END:VEVENT
BEGIN:VEVENT
DTSTART;TZID=America/New_York:20260424T120000
DTEND;TZID=America/New_York:20260424T130000
DTSTAMP:20260424T120840
CREATED:20260313T180254Z
LAST-MODIFIED:20260313T182526Z
UID:10005040-1777032000-1777035600@slatersvillechurch.org
SUMMARY:Chair Yoga
DESCRIPTION:
URL:https://slatersvillechurch.org/event/chair-yoga-3/2026-04-24/
LOCATION:Slatersville Congregational Church\, 25 Greene St\, Slatersville\, RI\, 02876\, United States
ATTACH;FMTTYPE=image/jpeg:https://slatersvillechurch.org/wp-content/uploads/2026/03/chair-yoga-older-person-practicing-home-scaled.jpg
END:VEVENT
BEGIN:VEVENT
DTSTART;TZID=America/New_York:20260425T090000
DTEND;TZID=America/New_York:20260425T143000
DTSTAMP:20260424T120840
CREATED:20260415T193502Z
LAST-MODIFIED:20260415T193502Z
UID:10005357-1777107600-1777127400@slatersvillechurch.org
SUMMARY:Bells @ "Ring a Palooza"
DESCRIPTION:
URL:https://slatersvillechurch.org/event/bells-ring-a-palooza/
LOCATION:Slatersville Congregational Church\, 25 Greene St\, Slatersville\, RI\, 02876\, United States
ATTACH;FMTTYPE=image/jpeg:https://slatersvillechurch.org/wp-content/uploads/2024/05/AdobeStock_129374891-scaled.jpeg
END:VEVENT
BEGIN:VEVENT
DTSTART;TZID=America/New_York:20260425T100000
DTEND;TZID=America/New_York:20260425T120000
DTSTAMP:20260424T120840
CREATED:20260415T193550Z
LAST-MODIFIED:20260415T193550Z
UID:10005358-1777111200-1777118400@slatersvillechurch.org
SUMMARY:NS Food Pantry
DESCRIPTION:
URL:https://slatersvillechurch.org/event/ns-food-pantry-5/
LOCATION:Slatersville Congregational Church\, 25 Greene St\, Slatersville\, RI\, 02876\, United States
ATTACH;FMTTYPE=image/jpeg:https://slatersvillechurch.org/wp-content/uploads/2023/04/food-pantry.jpg
END:VEVENT
BEGIN:VEVENT
DTSTART;TZID=America/New_York:20260426T100000
DTEND;TZID=America/New_York:20260426T230000
DTSTAMP:20260424T120840
CREATED:20260313T175904Z
LAST-MODIFIED:20260313T180510Z
UID:10004252-1777197600-1777244400@slatersvillechurch.org
SUMMARY:Worship
DESCRIPTION:
URL:https://slatersvillechurch.org/event/worship/2026-04-26/
LOCATION:Slatersville Congregational Church\, 25 Greene St\, Slatersville\, RI\, 02876\, United States
ATTACH;FMTTYPE=image/jpeg:https://slatersvillechurch.org/wp-content/uploads/2023/03/worship1.jpg
END:VEVENT
BEGIN:VEVENT
DTSTART;TZID=America/New_York:20260427T190000
DTEND;TZID=America/New_York:20260427T200000
DTSTAMP:20260424T120840
CREATED:20260313T180008Z
LAST-MODIFIED:20260313T180643Z
UID:10004515-1777316400-1777320000@slatersvillechurch.org
SUMMARY:AA
DESCRIPTION:
URL:https://slatersvillechurch.org/event/aa/2026-04-27/
LOCATION:Slatersville Congregational Church\, 25 Greene St\, Slatersville\, RI\, 02876\, United States
ATTACH;FMTTYPE=image/jpeg:https://slatersvillechurch.org/wp-content/uploads/2023/03/group-young-people-sitting-talking-together.jpg
END:VEVENT
BEGIN:VEVENT
DTSTART;TZID=America/New_York:20260428T173000
DTEND;TZID=America/New_York:20260428T190000
DTSTAMP:20260424T120840
CREATED:20260415T193617Z
LAST-MODIFIED:20260415T193617Z
UID:10005359-1777397400-1777402800@slatersvillechurch.org
SUMMARY:NS Food Pantry
DESCRIPTION:
URL:https://slatersvillechurch.org/event/ns-food-pantry-6/
LOCATION:Slatersville Congregational Church\, 25 Greene St\, Slatersville\, RI\, 02876\, United States
ATTACH;FMTTYPE=image/jpeg:https://slatersvillechurch.org/wp-content/uploads/2023/04/food-pantry.jpg
END:VEVENT
BEGIN:VEVENT
DTSTART;TZID=America/New_York:20260430T173000
DTEND;TZID=America/New_York:20260430T183000
DTSTAMP:20260424T120840
CREATED:20260313T180132Z
LAST-MODIFIED:20260415T191916Z
UID:10004778-1777570200-1777573800@slatersvillechurch.org
SUMMARY:Small Bells
DESCRIPTION:
URL:https://slatersvillechurch.org/event/small-bells/2026-04-30/
LOCATION:Slatersville Congregational Church\, 25 Greene St\, Slatersville\, RI\, 02876\, United States
ATTACH;FMTTYPE=image/jpeg:https://slatersvillechurch.org/wp-content/uploads/2026/03/children-celebrate-with-musical-bells-alphabet-day-scaled.jpg
END:VEVENT
BEGIN:VEVENT
DTSTART;TZID=America/New_York:20260430T183000
DTEND;TZID=America/New_York:20260430T193000
DTSTAMP:20260424T120840
CREATED:20250908T190105Z
LAST-MODIFIED:20260415T192024Z
UID:10003666-1777573800-1777577400@slatersvillechurch.org
SUMMARY:On the Common Ringers
DESCRIPTION:
URL:https://slatersvillechurch.org/event/on-the-common-ringers/2026-04-30/
LOCATION:Slatersville Congregational Church\, 25 Greene St\, Slatersville\, RI\, 02876\, United States
ATTACH;FMTTYPE=image/jpeg:https://slatersvillechurch.org/wp-content/uploads/2025/05/Handbell1.jpg
END:VEVENT
END:VCALENDAR