BEGIN:VCALENDAR
VERSION:2.0
PRODID:-//Slatersville Congregational Church | UCC church in northern Rhode Island - ECPv6.15.20//NONSGML v1.0//EN
CALSCALE:GREGORIAN
METHOD:PUBLISH
X-WR-CALNAME:Slatersville Congregational Church | UCC church in northern Rhode Island
X-ORIGINAL-URL:https://slatersvillechurch.org
X-WR-CALDESC:Events for Slatersville Congregational Church | UCC church in northern Rhode Island
REFRESH-INTERVAL;VALUE=DURATION:PT1H
X-Robots-Tag:noindex
X-PUBLISHED-TTL:PT1H
BEGIN:VTIMEZONE
TZID:America/New_York
BEGIN:DAYLIGHT
TZOFFSETFROM:-0500
TZOFFSETTO:-0400
TZNAME:EDT
DTSTART:20260308T070000
END:DAYLIGHT
BEGIN:STANDARD
TZOFFSETFROM:-0400
TZOFFSETTO:-0500
TZNAME:EST
DTSTART:20261101T060000
END:STANDARD
BEGIN:DAYLIGHT
TZOFFSETFROM:-0500
TZOFFSETTO:-0400
TZNAME:EDT
DTSTART:20270314T070000
END:DAYLIGHT
BEGIN:STANDARD
TZOFFSETFROM:-0400
TZOFFSETTO:-0500
TZNAME:EST
DTSTART:20271107T060000
END:STANDARD
BEGIN:DAYLIGHT
TZOFFSETFROM:-0500
TZOFFSETTO:-0400
TZNAME:EDT
DTSTART:20280312T070000
END:DAYLIGHT
BEGIN:STANDARD
TZOFFSETFROM:-0400
TZOFFSETTO:-0500
TZNAME:EST
DTSTART:20281105T060000
END:STANDARD
END:VTIMEZONE
BEGIN:VEVENT
DTSTART;TZID=America/New_York:20270110T100000
DTEND;TZID=America/New_York:20270110T230000
DTSTAMP:20260424T193908
CREATED:20260313T175904Z
LAST-MODIFIED:20260313T180510Z
UID:10004289-1799575200-1799622000@slatersvillechurch.org
SUMMARY:Worship
DESCRIPTION:
URL:https://slatersvillechurch.org/event/worship/2027-01-10/
LOCATION:Slatersville Congregational Church\, 25 Greene St\, Slatersville\, RI\, 02876\, United States
ATTACH;FMTTYPE=image/jpeg:https://slatersvillechurch.org/wp-content/uploads/2023/03/worship1.jpg
END:VEVENT
BEGIN:VEVENT
DTSTART;TZID=America/New_York:20270111T190000
DTEND;TZID=America/New_York:20270111T200000
DTSTAMP:20260424T193908
CREATED:20260313T180008Z
LAST-MODIFIED:20260313T180643Z
UID:10004552-1799694000-1799697600@slatersvillechurch.org
SUMMARY:AA
DESCRIPTION:
URL:https://slatersvillechurch.org/event/aa/2027-01-11/
LOCATION:Slatersville Congregational Church\, 25 Greene St\, Slatersville\, RI\, 02876\, United States
ATTACH;FMTTYPE=image/jpeg:https://slatersvillechurch.org/wp-content/uploads/2023/03/group-young-people-sitting-talking-together.jpg
END:VEVENT
BEGIN:VEVENT
DTSTART;TZID=America/New_York:20270114T173000
DTEND;TZID=America/New_York:20270114T183000
DTSTAMP:20260424T193908
CREATED:20260313T180132Z
LAST-MODIFIED:20260415T191916Z
UID:10004815-1799947800-1799951400@slatersvillechurch.org
SUMMARY:Small Bells
DESCRIPTION:
URL:https://slatersvillechurch.org/event/small-bells/2027-01-14/
LOCATION:Slatersville Congregational Church\, 25 Greene St\, Slatersville\, RI\, 02876\, United States
ATTACH;FMTTYPE=image/jpeg:https://slatersvillechurch.org/wp-content/uploads/2026/03/children-celebrate-with-musical-bells-alphabet-day-scaled.jpg
END:VEVENT
BEGIN:VEVENT
DTSTART;TZID=America/New_York:20270114T183000
DTEND;TZID=America/New_York:20270114T193000
DTSTAMP:20260424T193908
CREATED:20250908T190105Z
LAST-MODIFIED:20260415T192024Z
UID:10003703-1799951400-1799955000@slatersvillechurch.org
SUMMARY:On the Common Ringers
DESCRIPTION:
URL:https://slatersvillechurch.org/event/on-the-common-ringers/2027-01-14/
LOCATION:Slatersville Congregational Church\, 25 Greene St\, Slatersville\, RI\, 02876\, United States
ATTACH;FMTTYPE=image/jpeg:https://slatersvillechurch.org/wp-content/uploads/2025/05/Handbell1.jpg
END:VEVENT
BEGIN:VEVENT
DTSTART;TZID=America/New_York:20270114T193000
DTEND;TZID=America/New_York:20270114T203000
DTSTAMP:20260424T193908
CREATED:20250908T190740Z
LAST-MODIFIED:20260415T192116Z
UID:10004011-1799955000-1799958600@slatersvillechurch.org
SUMMARY:Senior Choir
DESCRIPTION:
URL:https://slatersvillechurch.org/event/senior-choir/2027-01-14/
LOCATION:Slatersville Congregational Church\, 25 Greene St\, Slatersville\, RI\, 02876\, United States
ATTACH;FMTTYPE=image/jpeg:https://slatersvillechurch.org/wp-content/uploads/2025/06/cartoon-style-music-concept.jpg
END:VEVENT
BEGIN:VEVENT
DTSTART;TZID=America/New_York:20270115T120000
DTEND;TZID=America/New_York:20270115T130000
DTSTAMP:20260424T193908
CREATED:20260313T180254Z
LAST-MODIFIED:20260313T182526Z
UID:10005078-1800014400-1800018000@slatersvillechurch.org
SUMMARY:Chair Yoga
DESCRIPTION:
URL:https://slatersvillechurch.org/event/chair-yoga-3/2027-01-15/
LOCATION:Slatersville Congregational Church\, 25 Greene St\, Slatersville\, RI\, 02876\, United States
ATTACH;FMTTYPE=image/jpeg:https://slatersvillechurch.org/wp-content/uploads/2026/03/chair-yoga-older-person-practicing-home-scaled.jpg
END:VEVENT
BEGIN:VEVENT
DTSTART;TZID=America/New_York:20270117T100000
DTEND;TZID=America/New_York:20270117T230000
DTSTAMP:20260424T193908
CREATED:20260313T175904Z
LAST-MODIFIED:20260313T180510Z
UID:10004290-1800180000-1800226800@slatersvillechurch.org
SUMMARY:Worship
DESCRIPTION:
URL:https://slatersvillechurch.org/event/worship/2027-01-17/
LOCATION:Slatersville Congregational Church\, 25 Greene St\, Slatersville\, RI\, 02876\, United States
ATTACH;FMTTYPE=image/jpeg:https://slatersvillechurch.org/wp-content/uploads/2023/03/worship1.jpg
END:VEVENT
BEGIN:VEVENT
DTSTART;TZID=America/New_York:20270118T190000
DTEND;TZID=America/New_York:20270118T200000
DTSTAMP:20260424T193908
CREATED:20260313T180008Z
LAST-MODIFIED:20260313T180643Z
UID:10004553-1800298800-1800302400@slatersvillechurch.org
SUMMARY:AA
DESCRIPTION:
URL:https://slatersvillechurch.org/event/aa/2027-01-18/
LOCATION:Slatersville Congregational Church\, 25 Greene St\, Slatersville\, RI\, 02876\, United States
ATTACH;FMTTYPE=image/jpeg:https://slatersvillechurch.org/wp-content/uploads/2023/03/group-young-people-sitting-talking-together.jpg
END:VEVENT
BEGIN:VEVENT
DTSTART;TZID=America/New_York:20270121T173000
DTEND;TZID=America/New_York:20270121T183000
DTSTAMP:20260424T193908
CREATED:20260313T180132Z
LAST-MODIFIED:20260415T191916Z
UID:10004816-1800552600-1800556200@slatersvillechurch.org
SUMMARY:Small Bells
DESCRIPTION:
URL:https://slatersvillechurch.org/event/small-bells/2027-01-21/
LOCATION:Slatersville Congregational Church\, 25 Greene St\, Slatersville\, RI\, 02876\, United States
ATTACH;FMTTYPE=image/jpeg:https://slatersvillechurch.org/wp-content/uploads/2026/03/children-celebrate-with-musical-bells-alphabet-day-scaled.jpg
END:VEVENT
BEGIN:VEVENT
DTSTART;TZID=America/New_York:20270121T183000
DTEND;TZID=America/New_York:20270121T193000
DTSTAMP:20260424T193908
CREATED:20250908T190105Z
LAST-MODIFIED:20260415T192024Z
UID:10003704-1800556200-1800559800@slatersvillechurch.org
SUMMARY:On the Common Ringers
DESCRIPTION:
URL:https://slatersvillechurch.org/event/on-the-common-ringers/2027-01-21/
LOCATION:Slatersville Congregational Church\, 25 Greene St\, Slatersville\, RI\, 02876\, United States
ATTACH;FMTTYPE=image/jpeg:https://slatersvillechurch.org/wp-content/uploads/2025/05/Handbell1.jpg
END:VEVENT
BEGIN:VEVENT
DTSTART;TZID=America/New_York:20270121T193000
DTEND;TZID=America/New_York:20270121T203000
DTSTAMP:20260424T193908
CREATED:20250908T190740Z
LAST-MODIFIED:20260415T192116Z
UID:10004012-1800559800-1800563400@slatersvillechurch.org
SUMMARY:Senior Choir
DESCRIPTION:
URL:https://slatersvillechurch.org/event/senior-choir/2027-01-21/
LOCATION:Slatersville Congregational Church\, 25 Greene St\, Slatersville\, RI\, 02876\, United States
ATTACH;FMTTYPE=image/jpeg:https://slatersvillechurch.org/wp-content/uploads/2025/06/cartoon-style-music-concept.jpg
END:VEVENT
BEGIN:VEVENT
DTSTART;TZID=America/New_York:20270122T120000
DTEND;TZID=America/New_York:20270122T130000
DTSTAMP:20260424T193908
CREATED:20260313T180254Z
LAST-MODIFIED:20260313T182526Z
UID:10005079-1800619200-1800622800@slatersvillechurch.org
SUMMARY:Chair Yoga
DESCRIPTION:
URL:https://slatersvillechurch.org/event/chair-yoga-3/2027-01-22/
LOCATION:Slatersville Congregational Church\, 25 Greene St\, Slatersville\, RI\, 02876\, United States
ATTACH;FMTTYPE=image/jpeg:https://slatersvillechurch.org/wp-content/uploads/2026/03/chair-yoga-older-person-practicing-home-scaled.jpg
END:VEVENT
BEGIN:VEVENT
DTSTART;TZID=America/New_York:20270124T100000
DTEND;TZID=America/New_York:20270124T230000
DTSTAMP:20260424T193908
CREATED:20260313T175904Z
LAST-MODIFIED:20260313T180510Z
UID:10004291-1800784800-1800831600@slatersvillechurch.org
SUMMARY:Worship
DESCRIPTION:
URL:https://slatersvillechurch.org/event/worship/2027-01-24/
LOCATION:Slatersville Congregational Church\, 25 Greene St\, Slatersville\, RI\, 02876\, United States
ATTACH;FMTTYPE=image/jpeg:https://slatersvillechurch.org/wp-content/uploads/2023/03/worship1.jpg
END:VEVENT
BEGIN:VEVENT
DTSTART;TZID=America/New_York:20270125T190000
DTEND;TZID=America/New_York:20270125T200000
DTSTAMP:20260424T193908
CREATED:20260313T180008Z
LAST-MODIFIED:20260313T180643Z
UID:10004554-1800903600-1800907200@slatersvillechurch.org
SUMMARY:AA
DESCRIPTION:
URL:https://slatersvillechurch.org/event/aa/2027-01-25/
LOCATION:Slatersville Congregational Church\, 25 Greene St\, Slatersville\, RI\, 02876\, United States
ATTACH;FMTTYPE=image/jpeg:https://slatersvillechurch.org/wp-content/uploads/2023/03/group-young-people-sitting-talking-together.jpg
END:VEVENT
BEGIN:VEVENT
DTSTART;TZID=America/New_York:20270128T173000
DTEND;TZID=America/New_York:20270128T183000
DTSTAMP:20260424T193908
CREATED:20260313T180132Z
LAST-MODIFIED:20260415T191916Z
UID:10004817-1801157400-1801161000@slatersvillechurch.org
SUMMARY:Small Bells
DESCRIPTION:
URL:https://slatersvillechurch.org/event/small-bells/2027-01-28/
LOCATION:Slatersville Congregational Church\, 25 Greene St\, Slatersville\, RI\, 02876\, United States
ATTACH;FMTTYPE=image/jpeg:https://slatersvillechurch.org/wp-content/uploads/2026/03/children-celebrate-with-musical-bells-alphabet-day-scaled.jpg
END:VEVENT
BEGIN:VEVENT
DTSTART;TZID=America/New_York:20270128T183000
DTEND;TZID=America/New_York:20270128T193000
DTSTAMP:20260424T193908
CREATED:20250908T190105Z
LAST-MODIFIED:20260415T192024Z
UID:10003705-1801161000-1801164600@slatersvillechurch.org
SUMMARY:On the Common Ringers
DESCRIPTION:
URL:https://slatersvillechurch.org/event/on-the-common-ringers/2027-01-28/
LOCATION:Slatersville Congregational Church\, 25 Greene St\, Slatersville\, RI\, 02876\, United States
ATTACH;FMTTYPE=image/jpeg:https://slatersvillechurch.org/wp-content/uploads/2025/05/Handbell1.jpg
END:VEVENT
BEGIN:VEVENT
DTSTART;TZID=America/New_York:20270128T193000
DTEND;TZID=America/New_York:20270128T203000
DTSTAMP:20260424T193908
CREATED:20250908T190740Z
LAST-MODIFIED:20260415T192116Z
UID:10004013-1801164600-1801168200@slatersvillechurch.org
SUMMARY:Senior Choir
DESCRIPTION:
URL:https://slatersvillechurch.org/event/senior-choir/2027-01-28/
LOCATION:Slatersville Congregational Church\, 25 Greene St\, Slatersville\, RI\, 02876\, United States
ATTACH;FMTTYPE=image/jpeg:https://slatersvillechurch.org/wp-content/uploads/2025/06/cartoon-style-music-concept.jpg
END:VEVENT
BEGIN:VEVENT
DTSTART;TZID=America/New_York:20270129T120000
DTEND;TZID=America/New_York:20270129T130000
DTSTAMP:20260424T193908
CREATED:20260313T180254Z
LAST-MODIFIED:20260313T182526Z
UID:10005080-1801224000-1801227600@slatersvillechurch.org
SUMMARY:Chair Yoga
DESCRIPTION:
URL:https://slatersvillechurch.org/event/chair-yoga-3/2027-01-29/
LOCATION:Slatersville Congregational Church\, 25 Greene St\, Slatersville\, RI\, 02876\, United States
ATTACH;FMTTYPE=image/jpeg:https://slatersvillechurch.org/wp-content/uploads/2026/03/chair-yoga-older-person-practicing-home-scaled.jpg
END:VEVENT
BEGIN:VEVENT
DTSTART;TZID=America/New_York:20270131T100000
DTEND;TZID=America/New_York:20270131T230000
DTSTAMP:20260424T193908
CREATED:20260313T175904Z
LAST-MODIFIED:20260313T180510Z
UID:10004292-1801389600-1801436400@slatersvillechurch.org
SUMMARY:Worship
DESCRIPTION:
URL:https://slatersvillechurch.org/event/worship/2027-01-31/
LOCATION:Slatersville Congregational Church\, 25 Greene St\, Slatersville\, RI\, 02876\, United States
ATTACH;FMTTYPE=image/jpeg:https://slatersvillechurch.org/wp-content/uploads/2023/03/worship1.jpg
END:VEVENT
BEGIN:VEVENT
DTSTART;TZID=America/New_York:20270201T190000
DTEND;TZID=America/New_York:20270201T200000
DTSTAMP:20260424T193908
CREATED:20260313T180008Z
LAST-MODIFIED:20260313T180643Z
UID:10004555-1801508400-1801512000@slatersvillechurch.org
SUMMARY:AA
DESCRIPTION:
URL:https://slatersvillechurch.org/event/aa/2027-02-01/
LOCATION:Slatersville Congregational Church\, 25 Greene St\, Slatersville\, RI\, 02876\, United States
ATTACH;FMTTYPE=image/jpeg:https://slatersvillechurch.org/wp-content/uploads/2023/03/group-young-people-sitting-talking-together.jpg
END:VEVENT
BEGIN:VEVENT
DTSTART;TZID=America/New_York:20270204T173000
DTEND;TZID=America/New_York:20270204T183000
DTSTAMP:20260424T193908
CREATED:20260313T180132Z
LAST-MODIFIED:20260415T191916Z
UID:10004818-1801762200-1801765800@slatersvillechurch.org
SUMMARY:Small Bells
DESCRIPTION:
URL:https://slatersvillechurch.org/event/small-bells/2027-02-04/
LOCATION:Slatersville Congregational Church\, 25 Greene St\, Slatersville\, RI\, 02876\, United States
ATTACH;FMTTYPE=image/jpeg:https://slatersvillechurch.org/wp-content/uploads/2026/03/children-celebrate-with-musical-bells-alphabet-day-scaled.jpg
END:VEVENT
BEGIN:VEVENT
DTSTART;TZID=America/New_York:20270204T183000
DTEND;TZID=America/New_York:20270204T193000
DTSTAMP:20260424T193908
CREATED:20250908T190105Z
LAST-MODIFIED:20260415T192024Z
UID:10003706-1801765800-1801769400@slatersvillechurch.org
SUMMARY:On the Common Ringers
DESCRIPTION:
URL:https://slatersvillechurch.org/event/on-the-common-ringers/2027-02-04/
LOCATION:Slatersville Congregational Church\, 25 Greene St\, Slatersville\, RI\, 02876\, United States
ATTACH;FMTTYPE=image/jpeg:https://slatersvillechurch.org/wp-content/uploads/2025/05/Handbell1.jpg
END:VEVENT
BEGIN:VEVENT
DTSTART;TZID=America/New_York:20270204T193000
DTEND;TZID=America/New_York:20270204T203000
DTSTAMP:20260424T193908
CREATED:20250908T190740Z
LAST-MODIFIED:20260415T192116Z
UID:10004014-1801769400-1801773000@slatersvillechurch.org
SUMMARY:Senior Choir
DESCRIPTION:
URL:https://slatersvillechurch.org/event/senior-choir/2027-02-04/
LOCATION:Slatersville Congregational Church\, 25 Greene St\, Slatersville\, RI\, 02876\, United States
ATTACH;FMTTYPE=image/jpeg:https://slatersvillechurch.org/wp-content/uploads/2025/06/cartoon-style-music-concept.jpg
END:VEVENT
BEGIN:VEVENT
DTSTART;TZID=America/New_York:20270205T120000
DTEND;TZID=America/New_York:20270205T130000
DTSTAMP:20260424T193908
CREATED:20260313T180254Z
LAST-MODIFIED:20260313T182526Z
UID:10005081-1801828800-1801832400@slatersvillechurch.org
SUMMARY:Chair Yoga
DESCRIPTION:
URL:https://slatersvillechurch.org/event/chair-yoga-3/2027-02-05/
LOCATION:Slatersville Congregational Church\, 25 Greene St\, Slatersville\, RI\, 02876\, United States
ATTACH;FMTTYPE=image/jpeg:https://slatersvillechurch.org/wp-content/uploads/2026/03/chair-yoga-older-person-practicing-home-scaled.jpg
END:VEVENT
BEGIN:VEVENT
DTSTART;TZID=America/New_York:20270207T100000
DTEND;TZID=America/New_York:20270207T230000
DTSTAMP:20260424T193908
CREATED:20260313T175904Z
LAST-MODIFIED:20260313T180510Z
UID:10004293-1801994400-1802041200@slatersvillechurch.org
SUMMARY:Worship
DESCRIPTION:
URL:https://slatersvillechurch.org/event/worship/2027-02-07/
LOCATION:Slatersville Congregational Church\, 25 Greene St\, Slatersville\, RI\, 02876\, United States
ATTACH;FMTTYPE=image/jpeg:https://slatersvillechurch.org/wp-content/uploads/2023/03/worship1.jpg
END:VEVENT
BEGIN:VEVENT
DTSTART;TZID=America/New_York:20270208T190000
DTEND;TZID=America/New_York:20270208T200000
DTSTAMP:20260424T193908
CREATED:20260313T180008Z
LAST-MODIFIED:20260313T180643Z
UID:10004556-1802113200-1802116800@slatersvillechurch.org
SUMMARY:AA
DESCRIPTION:
URL:https://slatersvillechurch.org/event/aa/2027-02-08/
LOCATION:Slatersville Congregational Church\, 25 Greene St\, Slatersville\, RI\, 02876\, United States
ATTACH;FMTTYPE=image/jpeg:https://slatersvillechurch.org/wp-content/uploads/2023/03/group-young-people-sitting-talking-together.jpg
END:VEVENT
BEGIN:VEVENT
DTSTART;TZID=America/New_York:20270211T173000
DTEND;TZID=America/New_York:20270211T183000
DTSTAMP:20260424T193908
CREATED:20260313T180132Z
LAST-MODIFIED:20260415T191916Z
UID:10004819-1802367000-1802370600@slatersvillechurch.org
SUMMARY:Small Bells
DESCRIPTION:
URL:https://slatersvillechurch.org/event/small-bells/2027-02-11/
LOCATION:Slatersville Congregational Church\, 25 Greene St\, Slatersville\, RI\, 02876\, United States
ATTACH;FMTTYPE=image/jpeg:https://slatersvillechurch.org/wp-content/uploads/2026/03/children-celebrate-with-musical-bells-alphabet-day-scaled.jpg
END:VEVENT
BEGIN:VEVENT
DTSTART;TZID=America/New_York:20270211T183000
DTEND;TZID=America/New_York:20270211T193000
DTSTAMP:20260424T193908
CREATED:20250908T190105Z
LAST-MODIFIED:20260415T192024Z
UID:10003707-1802370600-1802374200@slatersvillechurch.org
SUMMARY:On the Common Ringers
DESCRIPTION:
URL:https://slatersvillechurch.org/event/on-the-common-ringers/2027-02-11/
LOCATION:Slatersville Congregational Church\, 25 Greene St\, Slatersville\, RI\, 02876\, United States
ATTACH;FMTTYPE=image/jpeg:https://slatersvillechurch.org/wp-content/uploads/2025/05/Handbell1.jpg
END:VEVENT
BEGIN:VEVENT
DTSTART;TZID=America/New_York:20270211T193000
DTEND;TZID=America/New_York:20270211T203000
DTSTAMP:20260424T193908
CREATED:20250908T190740Z
LAST-MODIFIED:20260415T192116Z
UID:10004015-1802374200-1802377800@slatersvillechurch.org
SUMMARY:Senior Choir
DESCRIPTION:
URL:https://slatersvillechurch.org/event/senior-choir/2027-02-11/
LOCATION:Slatersville Congregational Church\, 25 Greene St\, Slatersville\, RI\, 02876\, United States
ATTACH;FMTTYPE=image/jpeg:https://slatersvillechurch.org/wp-content/uploads/2025/06/cartoon-style-music-concept.jpg
END:VEVENT
BEGIN:VEVENT
DTSTART;TZID=America/New_York:20270212T120000
DTEND;TZID=America/New_York:20270212T130000
DTSTAMP:20260424T193908
CREATED:20260313T180254Z
LAST-MODIFIED:20260313T182526Z
UID:10005082-1802433600-1802437200@slatersvillechurch.org
SUMMARY:Chair Yoga
DESCRIPTION:
URL:https://slatersvillechurch.org/event/chair-yoga-3/2027-02-12/
LOCATION:Slatersville Congregational Church\, 25 Greene St\, Slatersville\, RI\, 02876\, United States
ATTACH;FMTTYPE=image/jpeg:https://slatersvillechurch.org/wp-content/uploads/2026/03/chair-yoga-older-person-practicing-home-scaled.jpg
END:VEVENT
END:VCALENDAR