BEGIN:VCALENDAR
VERSION:2.0
PRODID:-//Slatersville Congregational Church | UCC church in northern Rhode Island - ECPv6.15.20//NONSGML v1.0//EN
CALSCALE:GREGORIAN
METHOD:PUBLISH
X-WR-CALNAME:Slatersville Congregational Church | UCC church in northern Rhode Island
X-ORIGINAL-URL:https://slatersvillechurch.org
X-WR-CALDESC:Events for Slatersville Congregational Church | UCC church in northern Rhode Island
REFRESH-INTERVAL;VALUE=DURATION:PT1H
X-Robots-Tag:noindex
X-PUBLISHED-TTL:PT1H
BEGIN:VTIMEZONE
TZID:America/New_York
BEGIN:DAYLIGHT
TZOFFSETFROM:-0500
TZOFFSETTO:-0400
TZNAME:EDT
DTSTART:20250309T070000
END:DAYLIGHT
BEGIN:STANDARD
TZOFFSETFROM:-0400
TZOFFSETTO:-0500
TZNAME:EST
DTSTART:20251102T060000
END:STANDARD
BEGIN:DAYLIGHT
TZOFFSETFROM:-0500
TZOFFSETTO:-0400
TZNAME:EDT
DTSTART:20260308T070000
END:DAYLIGHT
BEGIN:STANDARD
TZOFFSETFROM:-0400
TZOFFSETTO:-0500
TZNAME:EST
DTSTART:20261101T060000
END:STANDARD
BEGIN:DAYLIGHT
TZOFFSETFROM:-0500
TZOFFSETTO:-0400
TZNAME:EDT
DTSTART:20270314T070000
END:DAYLIGHT
BEGIN:STANDARD
TZOFFSETFROM:-0400
TZOFFSETTO:-0500
TZNAME:EST
DTSTART:20271107T060000
END:STANDARD
BEGIN:DAYLIGHT
TZOFFSETFROM:-0500
TZOFFSETTO:-0400
TZNAME:EDT
DTSTART:20280312T070000
END:DAYLIGHT
BEGIN:STANDARD
TZOFFSETFROM:-0400
TZOFFSETTO:-0500
TZNAME:EST
DTSTART:20281105T060000
END:STANDARD
END:VTIMEZONE
BEGIN:VEVENT
DTSTART;TZID=America/New_York:20261207T190000
DTEND;TZID=America/New_York:20261207T200000
DTSTAMP:20260424T184843
CREATED:20260313T180008Z
LAST-MODIFIED:20260313T180643Z
UID:10004547-1796670000-1796673600@slatersvillechurch.org
SUMMARY:AA
DESCRIPTION:
URL:https://slatersvillechurch.org/event/aa/2026-12-07/
LOCATION:Slatersville Congregational Church\, 25 Greene St\, Slatersville\, RI\, 02876\, United States
ATTACH;FMTTYPE=image/jpeg:https://slatersvillechurch.org/wp-content/uploads/2023/03/group-young-people-sitting-talking-together.jpg
END:VEVENT
BEGIN:VEVENT
DTSTART;TZID=America/New_York:20261210T173000
DTEND;TZID=America/New_York:20261210T183000
DTSTAMP:20260424T184843
CREATED:20260313T180132Z
LAST-MODIFIED:20260415T191916Z
UID:10004810-1796923800-1796927400@slatersvillechurch.org
SUMMARY:Small Bells
DESCRIPTION:
URL:https://slatersvillechurch.org/event/small-bells/2026-12-10/
LOCATION:Slatersville Congregational Church\, 25 Greene St\, Slatersville\, RI\, 02876\, United States
ATTACH;FMTTYPE=image/jpeg:https://slatersvillechurch.org/wp-content/uploads/2026/03/children-celebrate-with-musical-bells-alphabet-day-scaled.jpg
END:VEVENT
BEGIN:VEVENT
DTSTART;TZID=America/New_York:20261210T183000
DTEND;TZID=America/New_York:20261210T193000
DTSTAMP:20260424T184843
CREATED:20250908T190105Z
LAST-MODIFIED:20260415T192024Z
UID:10003698-1796927400-1796931000@slatersvillechurch.org
SUMMARY:On the Common Ringers
DESCRIPTION:
URL:https://slatersvillechurch.org/event/on-the-common-ringers/2026-12-10/
LOCATION:Slatersville Congregational Church\, 25 Greene St\, Slatersville\, RI\, 02876\, United States
ATTACH;FMTTYPE=image/jpeg:https://slatersvillechurch.org/wp-content/uploads/2025/05/Handbell1.jpg
END:VEVENT
BEGIN:VEVENT
DTSTART;TZID=America/New_York:20261210T193000
DTEND;TZID=America/New_York:20261210T203000
DTSTAMP:20260424T184843
CREATED:20250908T190740Z
LAST-MODIFIED:20260415T192116Z
UID:10004006-1796931000-1796934600@slatersvillechurch.org
SUMMARY:Senior Choir
DESCRIPTION:
URL:https://slatersvillechurch.org/event/senior-choir/2026-12-10/
LOCATION:Slatersville Congregational Church\, 25 Greene St\, Slatersville\, RI\, 02876\, United States
ATTACH;FMTTYPE=image/jpeg:https://slatersvillechurch.org/wp-content/uploads/2025/06/cartoon-style-music-concept.jpg
END:VEVENT
BEGIN:VEVENT
DTSTART;TZID=America/New_York:20261211T120000
DTEND;TZID=America/New_York:20261211T130000
DTSTAMP:20260424T184843
CREATED:20260313T180254Z
LAST-MODIFIED:20260313T182526Z
UID:10005073-1796990400-1796994000@slatersvillechurch.org
SUMMARY:Chair Yoga
DESCRIPTION:
URL:https://slatersvillechurch.org/event/chair-yoga-3/2026-12-11/
LOCATION:Slatersville Congregational Church\, 25 Greene St\, Slatersville\, RI\, 02876\, United States
ATTACH;FMTTYPE=image/jpeg:https://slatersvillechurch.org/wp-content/uploads/2026/03/chair-yoga-older-person-practicing-home-scaled.jpg
END:VEVENT
BEGIN:VEVENT
DTSTART;TZID=America/New_York:20261213T100000
DTEND;TZID=America/New_York:20261213T230000
DTSTAMP:20260424T184843
CREATED:20260313T175904Z
LAST-MODIFIED:20260313T180510Z
UID:10004285-1797156000-1797202800@slatersvillechurch.org
SUMMARY:Worship
DESCRIPTION:
URL:https://slatersvillechurch.org/event/worship/2026-12-13/
LOCATION:Slatersville Congregational Church\, 25 Greene St\, Slatersville\, RI\, 02876\, United States
ATTACH;FMTTYPE=image/jpeg:https://slatersvillechurch.org/wp-content/uploads/2023/03/worship1.jpg
END:VEVENT
BEGIN:VEVENT
DTSTART;TZID=America/New_York:20261214T190000
DTEND;TZID=America/New_York:20261214T200000
DTSTAMP:20260424T184843
CREATED:20260313T180008Z
LAST-MODIFIED:20260313T180643Z
UID:10004548-1797274800-1797278400@slatersvillechurch.org
SUMMARY:AA
DESCRIPTION:
URL:https://slatersvillechurch.org/event/aa/2026-12-14/
LOCATION:Slatersville Congregational Church\, 25 Greene St\, Slatersville\, RI\, 02876\, United States
ATTACH;FMTTYPE=image/jpeg:https://slatersvillechurch.org/wp-content/uploads/2023/03/group-young-people-sitting-talking-together.jpg
END:VEVENT
BEGIN:VEVENT
DTSTART;TZID=America/New_York:20261217T173000
DTEND;TZID=America/New_York:20261217T183000
DTSTAMP:20260424T184843
CREATED:20260313T180132Z
LAST-MODIFIED:20260415T191916Z
UID:10004811-1797528600-1797532200@slatersvillechurch.org
SUMMARY:Small Bells
DESCRIPTION:
URL:https://slatersvillechurch.org/event/small-bells/2026-12-17/
LOCATION:Slatersville Congregational Church\, 25 Greene St\, Slatersville\, RI\, 02876\, United States
ATTACH;FMTTYPE=image/jpeg:https://slatersvillechurch.org/wp-content/uploads/2026/03/children-celebrate-with-musical-bells-alphabet-day-scaled.jpg
END:VEVENT
BEGIN:VEVENT
DTSTART;TZID=America/New_York:20261217T183000
DTEND;TZID=America/New_York:20261217T193000
DTSTAMP:20260424T184843
CREATED:20250908T190105Z
LAST-MODIFIED:20260415T192024Z
UID:10003699-1797532200-1797535800@slatersvillechurch.org
SUMMARY:On the Common Ringers
DESCRIPTION:
URL:https://slatersvillechurch.org/event/on-the-common-ringers/2026-12-17/
LOCATION:Slatersville Congregational Church\, 25 Greene St\, Slatersville\, RI\, 02876\, United States
ATTACH;FMTTYPE=image/jpeg:https://slatersvillechurch.org/wp-content/uploads/2025/05/Handbell1.jpg
END:VEVENT
BEGIN:VEVENT
DTSTART;TZID=America/New_York:20261217T193000
DTEND;TZID=America/New_York:20261217T203000
DTSTAMP:20260424T184843
CREATED:20250908T190740Z
LAST-MODIFIED:20260415T192116Z
UID:10004007-1797535800-1797539400@slatersvillechurch.org
SUMMARY:Senior Choir
DESCRIPTION:
URL:https://slatersvillechurch.org/event/senior-choir/2026-12-17/
LOCATION:Slatersville Congregational Church\, 25 Greene St\, Slatersville\, RI\, 02876\, United States
ATTACH;FMTTYPE=image/jpeg:https://slatersvillechurch.org/wp-content/uploads/2025/06/cartoon-style-music-concept.jpg
END:VEVENT
BEGIN:VEVENT
DTSTART;TZID=America/New_York:20261218T120000
DTEND;TZID=America/New_York:20261218T130000
DTSTAMP:20260424T184843
CREATED:20260313T180254Z
LAST-MODIFIED:20260313T182526Z
UID:10005074-1797595200-1797598800@slatersvillechurch.org
SUMMARY:Chair Yoga
DESCRIPTION:
URL:https://slatersvillechurch.org/event/chair-yoga-3/2026-12-18/
LOCATION:Slatersville Congregational Church\, 25 Greene St\, Slatersville\, RI\, 02876\, United States
ATTACH;FMTTYPE=image/jpeg:https://slatersvillechurch.org/wp-content/uploads/2026/03/chair-yoga-older-person-practicing-home-scaled.jpg
END:VEVENT
BEGIN:VEVENT
DTSTART;TZID=America/New_York:20261220T100000
DTEND;TZID=America/New_York:20261220T230000
DTSTAMP:20260424T184843
CREATED:20260313T175904Z
LAST-MODIFIED:20260313T180510Z
UID:10004286-1797760800-1797807600@slatersvillechurch.org
SUMMARY:Worship
DESCRIPTION:
URL:https://slatersvillechurch.org/event/worship/2026-12-20/
LOCATION:Slatersville Congregational Church\, 25 Greene St\, Slatersville\, RI\, 02876\, United States
ATTACH;FMTTYPE=image/jpeg:https://slatersvillechurch.org/wp-content/uploads/2023/03/worship1.jpg
END:VEVENT
BEGIN:VEVENT
DTSTART;TZID=America/New_York:20261221T190000
DTEND;TZID=America/New_York:20261221T200000
DTSTAMP:20260424T184843
CREATED:20260313T180008Z
LAST-MODIFIED:20260313T180643Z
UID:10004549-1797879600-1797883200@slatersvillechurch.org
SUMMARY:AA
DESCRIPTION:
URL:https://slatersvillechurch.org/event/aa/2026-12-21/
LOCATION:Slatersville Congregational Church\, 25 Greene St\, Slatersville\, RI\, 02876\, United States
ATTACH;FMTTYPE=image/jpeg:https://slatersvillechurch.org/wp-content/uploads/2023/03/group-young-people-sitting-talking-together.jpg
END:VEVENT
BEGIN:VEVENT
DTSTART;TZID=America/New_York:20261224T173000
DTEND;TZID=America/New_York:20261224T183000
DTSTAMP:20260424T184843
CREATED:20260313T180132Z
LAST-MODIFIED:20260415T191916Z
UID:10004812-1798133400-1798137000@slatersvillechurch.org
SUMMARY:Small Bells
DESCRIPTION:
URL:https://slatersvillechurch.org/event/small-bells/2026-12-24/
LOCATION:Slatersville Congregational Church\, 25 Greene St\, Slatersville\, RI\, 02876\, United States
ATTACH;FMTTYPE=image/jpeg:https://slatersvillechurch.org/wp-content/uploads/2026/03/children-celebrate-with-musical-bells-alphabet-day-scaled.jpg
END:VEVENT
BEGIN:VEVENT
DTSTART;TZID=America/New_York:20261224T183000
DTEND;TZID=America/New_York:20261224T193000
DTSTAMP:20260424T184843
CREATED:20250908T190105Z
LAST-MODIFIED:20260415T192024Z
UID:10003700-1798137000-1798140600@slatersvillechurch.org
SUMMARY:On the Common Ringers
DESCRIPTION:
URL:https://slatersvillechurch.org/event/on-the-common-ringers/2026-12-24/
LOCATION:Slatersville Congregational Church\, 25 Greene St\, Slatersville\, RI\, 02876\, United States
ATTACH;FMTTYPE=image/jpeg:https://slatersvillechurch.org/wp-content/uploads/2025/05/Handbell1.jpg
END:VEVENT
BEGIN:VEVENT
DTSTART;TZID=America/New_York:20261224T193000
DTEND;TZID=America/New_York:20261224T203000
DTSTAMP:20260424T184843
CREATED:20250908T190740Z
LAST-MODIFIED:20260415T192116Z
UID:10004008-1798140600-1798144200@slatersvillechurch.org
SUMMARY:Senior Choir
DESCRIPTION:
URL:https://slatersvillechurch.org/event/senior-choir/2026-12-24/
LOCATION:Slatersville Congregational Church\, 25 Greene St\, Slatersville\, RI\, 02876\, United States
ATTACH;FMTTYPE=image/jpeg:https://slatersvillechurch.org/wp-content/uploads/2025/06/cartoon-style-music-concept.jpg
END:VEVENT
BEGIN:VEVENT
DTSTART;TZID=America/New_York:20261225T120000
DTEND;TZID=America/New_York:20261225T130000
DTSTAMP:20260424T184843
CREATED:20260313T180254Z
LAST-MODIFIED:20260313T182526Z
UID:10005075-1798200000-1798203600@slatersvillechurch.org
SUMMARY:Chair Yoga
DESCRIPTION:
URL:https://slatersvillechurch.org/event/chair-yoga-3/2026-12-25/
LOCATION:Slatersville Congregational Church\, 25 Greene St\, Slatersville\, RI\, 02876\, United States
ATTACH;FMTTYPE=image/jpeg:https://slatersvillechurch.org/wp-content/uploads/2026/03/chair-yoga-older-person-practicing-home-scaled.jpg
END:VEVENT
BEGIN:VEVENT
DTSTART;TZID=America/New_York:20261227T100000
DTEND;TZID=America/New_York:20261227T230000
DTSTAMP:20260424T184843
CREATED:20260313T175904Z
LAST-MODIFIED:20260313T180510Z
UID:10004287-1798365600-1798412400@slatersvillechurch.org
SUMMARY:Worship
DESCRIPTION:
URL:https://slatersvillechurch.org/event/worship/2026-12-27/
LOCATION:Slatersville Congregational Church\, 25 Greene St\, Slatersville\, RI\, 02876\, United States
ATTACH;FMTTYPE=image/jpeg:https://slatersvillechurch.org/wp-content/uploads/2023/03/worship1.jpg
END:VEVENT
BEGIN:VEVENT
DTSTART;TZID=America/New_York:20261228T190000
DTEND;TZID=America/New_York:20261228T200000
DTSTAMP:20260424T184843
CREATED:20260313T180008Z
LAST-MODIFIED:20260313T180643Z
UID:10004550-1798484400-1798488000@slatersvillechurch.org
SUMMARY:AA
DESCRIPTION:
URL:https://slatersvillechurch.org/event/aa/2026-12-28/
LOCATION:Slatersville Congregational Church\, 25 Greene St\, Slatersville\, RI\, 02876\, United States
ATTACH;FMTTYPE=image/jpeg:https://slatersvillechurch.org/wp-content/uploads/2023/03/group-young-people-sitting-talking-together.jpg
END:VEVENT
BEGIN:VEVENT
DTSTART;TZID=America/New_York:20261231T173000
DTEND;TZID=America/New_York:20261231T183000
DTSTAMP:20260424T184843
CREATED:20260313T180132Z
LAST-MODIFIED:20260415T191916Z
UID:10004813-1798738200-1798741800@slatersvillechurch.org
SUMMARY:Small Bells
DESCRIPTION:
URL:https://slatersvillechurch.org/event/small-bells/2026-12-31/
LOCATION:Slatersville Congregational Church\, 25 Greene St\, Slatersville\, RI\, 02876\, United States
ATTACH;FMTTYPE=image/jpeg:https://slatersvillechurch.org/wp-content/uploads/2026/03/children-celebrate-with-musical-bells-alphabet-day-scaled.jpg
END:VEVENT
BEGIN:VEVENT
DTSTART;TZID=America/New_York:20261231T183000
DTEND;TZID=America/New_York:20261231T193000
DTSTAMP:20260424T184843
CREATED:20250908T190105Z
LAST-MODIFIED:20260415T192024Z
UID:10003701-1798741800-1798745400@slatersvillechurch.org
SUMMARY:On the Common Ringers
DESCRIPTION:
URL:https://slatersvillechurch.org/event/on-the-common-ringers/2026-12-31/
LOCATION:Slatersville Congregational Church\, 25 Greene St\, Slatersville\, RI\, 02876\, United States
ATTACH;FMTTYPE=image/jpeg:https://slatersvillechurch.org/wp-content/uploads/2025/05/Handbell1.jpg
END:VEVENT
BEGIN:VEVENT
DTSTART;TZID=America/New_York:20261231T193000
DTEND;TZID=America/New_York:20261231T203000
DTSTAMP:20260424T184844
CREATED:20250908T190740Z
LAST-MODIFIED:20260415T192116Z
UID:10004009-1798745400-1798749000@slatersvillechurch.org
SUMMARY:Senior Choir
DESCRIPTION:
URL:https://slatersvillechurch.org/event/senior-choir/2026-12-31/
LOCATION:Slatersville Congregational Church\, 25 Greene St\, Slatersville\, RI\, 02876\, United States
ATTACH;FMTTYPE=image/jpeg:https://slatersvillechurch.org/wp-content/uploads/2025/06/cartoon-style-music-concept.jpg
END:VEVENT
BEGIN:VEVENT
DTSTART;TZID=America/New_York:20270101T120000
DTEND;TZID=America/New_York:20270101T130000
DTSTAMP:20260424T184844
CREATED:20260313T180254Z
LAST-MODIFIED:20260313T182526Z
UID:10005076-1798804800-1798808400@slatersvillechurch.org
SUMMARY:Chair Yoga
DESCRIPTION:
URL:https://slatersvillechurch.org/event/chair-yoga-3/2027-01-01/
LOCATION:Slatersville Congregational Church\, 25 Greene St\, Slatersville\, RI\, 02876\, United States
ATTACH;FMTTYPE=image/jpeg:https://slatersvillechurch.org/wp-content/uploads/2026/03/chair-yoga-older-person-practicing-home-scaled.jpg
END:VEVENT
BEGIN:VEVENT
DTSTART;TZID=America/New_York:20270103T100000
DTEND;TZID=America/New_York:20270103T230000
DTSTAMP:20260424T184844
CREATED:20260313T175904Z
LAST-MODIFIED:20260313T180510Z
UID:10004288-1798970400-1799017200@slatersvillechurch.org
SUMMARY:Worship
DESCRIPTION:
URL:https://slatersvillechurch.org/event/worship/2027-01-03/
LOCATION:Slatersville Congregational Church\, 25 Greene St\, Slatersville\, RI\, 02876\, United States
ATTACH;FMTTYPE=image/jpeg:https://slatersvillechurch.org/wp-content/uploads/2023/03/worship1.jpg
END:VEVENT
BEGIN:VEVENT
DTSTART;TZID=America/New_York:20270104T190000
DTEND;TZID=America/New_York:20270104T200000
DTSTAMP:20260424T184844
CREATED:20260313T180008Z
LAST-MODIFIED:20260313T180643Z
UID:10004551-1799089200-1799092800@slatersvillechurch.org
SUMMARY:AA
DESCRIPTION:
URL:https://slatersvillechurch.org/event/aa/2027-01-04/
LOCATION:Slatersville Congregational Church\, 25 Greene St\, Slatersville\, RI\, 02876\, United States
ATTACH;FMTTYPE=image/jpeg:https://slatersvillechurch.org/wp-content/uploads/2023/03/group-young-people-sitting-talking-together.jpg
END:VEVENT
BEGIN:VEVENT
DTSTART;TZID=America/New_York:20270107T173000
DTEND;TZID=America/New_York:20270107T183000
DTSTAMP:20260424T184844
CREATED:20260313T180132Z
LAST-MODIFIED:20260415T191916Z
UID:10004814-1799343000-1799346600@slatersvillechurch.org
SUMMARY:Small Bells
DESCRIPTION:
URL:https://slatersvillechurch.org/event/small-bells/2027-01-07/
LOCATION:Slatersville Congregational Church\, 25 Greene St\, Slatersville\, RI\, 02876\, United States
ATTACH;FMTTYPE=image/jpeg:https://slatersvillechurch.org/wp-content/uploads/2026/03/children-celebrate-with-musical-bells-alphabet-day-scaled.jpg
END:VEVENT
BEGIN:VEVENT
DTSTART;TZID=America/New_York:20270107T183000
DTEND;TZID=America/New_York:20270107T193000
DTSTAMP:20260424T184844
CREATED:20250908T190105Z
LAST-MODIFIED:20260415T192024Z
UID:10003702-1799346600-1799350200@slatersvillechurch.org
SUMMARY:On the Common Ringers
DESCRIPTION:
URL:https://slatersvillechurch.org/event/on-the-common-ringers/2027-01-07/
LOCATION:Slatersville Congregational Church\, 25 Greene St\, Slatersville\, RI\, 02876\, United States
ATTACH;FMTTYPE=image/jpeg:https://slatersvillechurch.org/wp-content/uploads/2025/05/Handbell1.jpg
END:VEVENT
BEGIN:VEVENT
DTSTART;TZID=America/New_York:20270107T193000
DTEND;TZID=America/New_York:20270107T203000
DTSTAMP:20260424T184844
CREATED:20250908T190740Z
LAST-MODIFIED:20260415T192116Z
UID:10004010-1799350200-1799353800@slatersvillechurch.org
SUMMARY:Senior Choir
DESCRIPTION:
URL:https://slatersvillechurch.org/event/senior-choir/2027-01-07/
LOCATION:Slatersville Congregational Church\, 25 Greene St\, Slatersville\, RI\, 02876\, United States
ATTACH;FMTTYPE=image/jpeg:https://slatersvillechurch.org/wp-content/uploads/2025/06/cartoon-style-music-concept.jpg
END:VEVENT
BEGIN:VEVENT
DTSTART;TZID=America/New_York:20270108T120000
DTEND;TZID=America/New_York:20270108T130000
DTSTAMP:20260424T184844
CREATED:20260313T180254Z
LAST-MODIFIED:20260313T182526Z
UID:10005077-1799409600-1799413200@slatersvillechurch.org
SUMMARY:Chair Yoga
DESCRIPTION:
URL:https://slatersvillechurch.org/event/chair-yoga-3/2027-01-08/
LOCATION:Slatersville Congregational Church\, 25 Greene St\, Slatersville\, RI\, 02876\, United States
ATTACH;FMTTYPE=image/jpeg:https://slatersvillechurch.org/wp-content/uploads/2026/03/chair-yoga-older-person-practicing-home-scaled.jpg
END:VEVENT
BEGIN:VEVENT
DTSTART;TZID=America/New_York:20270110T100000
DTEND;TZID=America/New_York:20270110T230000
DTSTAMP:20260424T184844
CREATED:20260313T175904Z
LAST-MODIFIED:20260313T180510Z
UID:10004289-1799575200-1799622000@slatersvillechurch.org
SUMMARY:Worship
DESCRIPTION:
URL:https://slatersvillechurch.org/event/worship/2027-01-10/
LOCATION:Slatersville Congregational Church\, 25 Greene St\, Slatersville\, RI\, 02876\, United States
ATTACH;FMTTYPE=image/jpeg:https://slatersvillechurch.org/wp-content/uploads/2023/03/worship1.jpg
END:VEVENT
END:VCALENDAR