BEGIN:VCALENDAR
VERSION:2.0
PRODID:-//Slatersville Congregational Church | UCC church in northern Rhode Island - ECPv6.15.20//NONSGML v1.0//EN
CALSCALE:GREGORIAN
METHOD:PUBLISH
X-WR-CALNAME:Slatersville Congregational Church | UCC church in northern Rhode Island
X-ORIGINAL-URL:https://slatersvillechurch.org
X-WR-CALDESC:Events for Slatersville Congregational Church | UCC church in northern Rhode Island
REFRESH-INTERVAL;VALUE=DURATION:PT1H
X-Robots-Tag:noindex
X-PUBLISHED-TTL:PT1H
BEGIN:VTIMEZONE
TZID:America/New_York
BEGIN:DAYLIGHT
TZOFFSETFROM:-0500
TZOFFSETTO:-0400
TZNAME:EDT
DTSTART:20250309T070000
END:DAYLIGHT
BEGIN:STANDARD
TZOFFSETFROM:-0400
TZOFFSETTO:-0500
TZNAME:EST
DTSTART:20251102T060000
END:STANDARD
BEGIN:DAYLIGHT
TZOFFSETFROM:-0500
TZOFFSETTO:-0400
TZNAME:EDT
DTSTART:20260308T070000
END:DAYLIGHT
BEGIN:STANDARD
TZOFFSETFROM:-0400
TZOFFSETTO:-0500
TZNAME:EST
DTSTART:20261101T060000
END:STANDARD
BEGIN:DAYLIGHT
TZOFFSETFROM:-0500
TZOFFSETTO:-0400
TZNAME:EDT
DTSTART:20270314T070000
END:DAYLIGHT
BEGIN:STANDARD
TZOFFSETFROM:-0400
TZOFFSETTO:-0500
TZNAME:EST
DTSTART:20271107T060000
END:STANDARD
END:VTIMEZONE
BEGIN:VEVENT
DTSTART;TZID=America/New_York:20260308T100000
DTEND;TZID=America/New_York:20260308T230000
DTSTAMP:20260424T120552
CREATED:20260313T175904Z
LAST-MODIFIED:20260313T180510Z
UID:10004245-1772964000-1773010800@slatersvillechurch.org
SUMMARY:Worship
DESCRIPTION:
URL:https://slatersvillechurch.org/event/worship/2026-03-08/
LOCATION:Slatersville Congregational Church\, 25 Greene St\, Slatersville\, RI\, 02876\, United States
ATTACH;FMTTYPE=image/jpeg:https://slatersvillechurch.org/wp-content/uploads/2023/03/worship1.jpg
END:VEVENT
END:VCALENDAR